BEGIN:VCALENDAR
VERSION:2.0
PRODID:-//Sociale Kalender - ECPv6.2.9//NONSGML v1.0//EN
CALSCALE:GREGORIAN
METHOD:PUBLISH
X-ORIGINAL-URL:https://www.socialekalender.be
X-WR-CALDESC:Evenementen voor Sociale Kalender
REFRESH-INTERVAL;VALUE=DURATION:PT1H
X-Robots-Tag:noindex
X-PUBLISHED-TTL:PT1H
BEGIN:VTIMEZONE
TZID:Europe/Brussels
BEGIN:DAYLIGHT
TZOFFSETFROM:+0100
TZOFFSETTO:+0200
TZNAME:CEST
DTSTART:20220327T010000
END:DAYLIGHT
BEGIN:STANDARD
TZOFFSETFROM:+0200
TZOFFSETTO:+0100
TZNAME:CET
DTSTART:20221030T010000
END:STANDARD
END:VTIMEZONE
BEGIN:VEVENT
DTSTART;TZID=Europe/Brussels:20220424T150000
DTEND;TZID=Europe/Brussels:20220424T150000
DTSTAMP:20260420T220935
CREATED:20220406T160213Z
LAST-MODIFIED:20220406T160213Z
UID:6885-1650812400-1650812400@www.socialekalender.be
SUMMARY:Op de koffie bij Mustafa Kör
DESCRIPTION:Mijnwerkerszoon Mustafa Kör is op zondag 24 april tegelijk gastheer en centrale gast voor ‘Chez Mustafa’ in de bibliotheek van Genk. Hij neemt enkele vrienden mee en samen maken ze er een poëtische namiddag van met muziek\, dans en een kop koffie\, in de grootste huiskamer van Genk! Mustafa Kör keert terug naar de plek waar zijn poëtische verhaal een beetje begon. In 2008 maakte hij zijn debuut als dichter met ‘Genker Liefde’\, een gedicht dat hij schreef in opdracht van Bib Genk\, ter gelegenheid van de internationale gedichtendag. Inmiddels is hij officieel aangesteld als Dichter des Vaderlands. Mustafa zal gedichten schrijven over verschillende thema’s en hij wil de maatschappelijke waarde van poëzie uitdragen in het hele land.  Wie brengt hij mee? De dichters Maarten Goethals\, Carmien Michels en Laurence Vielle\, de muzikanten An Heynen (nyckelharpa) en Michel Gillain (gitaar) en de flamencodanseres Silvia Leon.  Inschrijven via https://genk.kwandoo.com/ticketingActivity/subscribe/75661. Inkom 15 euro\, 10 voor leden van de bib\, 5 voor VT-statuut.
URL:https://www.socialekalender.be/evenement/op-de-koffie-bij-mustafa-kor/
LOCATION:Bibliotheek Genk\, Stadsplein 3\, Genk\, 3600
ATTACH;FMTTYPE=image/jpeg:https://www.socialekalender.be/wp-content/uploads/2022/04/Mustafa-Kör.jpg
END:VEVENT
END:VCALENDAR