BEGIN:VCALENDAR
VERSION:2.0
PRODID:-//Sociale Kalender - ECPv6.2.9//NONSGML v1.0//EN
CALSCALE:GREGORIAN
METHOD:PUBLISH
X-WR-CALNAME:Sociale Kalender
X-ORIGINAL-URL:https://www.socialekalender.be
X-WR-CALDESC:Evenementen voor Sociale Kalender
REFRESH-INTERVAL;VALUE=DURATION:PT1H
X-Robots-Tag:noindex
X-PUBLISHED-TTL:PT1H
BEGIN:VTIMEZONE
TZID:Europe/Brussels
BEGIN:DAYLIGHT
TZOFFSETFROM:+0100
TZOFFSETTO:+0200
TZNAME:CEST
DTSTART:20220327T010000
END:DAYLIGHT
BEGIN:STANDARD
TZOFFSETFROM:+0200
TZOFFSETTO:+0100
TZNAME:CET
DTSTART:20221030T010000
END:STANDARD
END:VTIMEZONE
BEGIN:VEVENT
DTSTART;TZID=Europe/Brussels:20220512T200000
DTEND;TZID=Europe/Brussels:20220512T200000
DTSTAMP:20260420T202806
CREATED:20220407T152717Z
LAST-MODIFIED:20220407T152717Z
UID:6896-1652385600-1652385600@www.socialekalender.be
SUMMARY:Herinneringen aan Etienne Vermeersch
DESCRIPTION:Johan Braeckman brengt een hommage aan deze bekende filosoof en ethicus. Etienne Vermeersch (1934-2019) trad in 1953 in bij de jezuïeten\, maar na een geloofscrisis trad hij vijf jaar later weer uit en werd hij bekend als atheïst en materialist. Hij promoveerde in de filosofie bij Leo Apostel op een proefschrift over informatietheorie en cybernetica. Later werd hij hoogleraar en vice-rector van de universiteit van Gent. In 2008 werd hij door 100 prominente Vlamingen verkozen tot de meest vooraanstaande intellectueel van Vlaanderen.
URL:https://www.socialekalender.be/evenement/herinneringen-aan-etienne-vermeersch/
LOCATION:Vrijzinnig Punt en Boekhandel Grim
ATTACH;FMTTYPE=image/jpeg:https://www.socialekalender.be/wp-content/uploads/2022/04/Etienne-Vermeersch.jpg
END:VEVENT
END:VCALENDAR