BEGIN:VCALENDAR
VERSION:2.0
PRODID:-//Sociale Kalender - ECPv6.2.9//NONSGML v1.0//EN
CALSCALE:GREGORIAN
METHOD:PUBLISH
X-WR-CALNAME:Sociale Kalender
X-ORIGINAL-URL:https://www.socialekalender.be
X-WR-CALDESC:Evenementen voor Sociale Kalender
REFRESH-INTERVAL;VALUE=DURATION:PT1H
X-Robots-Tag:noindex
X-PUBLISHED-TTL:PT1H
BEGIN:VTIMEZONE
TZID:Europe/Brussels
BEGIN:DAYLIGHT
TZOFFSETFROM:+0100
TZOFFSETTO:+0200
TZNAME:CEST
DTSTART:20220327T010000
END:DAYLIGHT
BEGIN:STANDARD
TZOFFSETFROM:+0200
TZOFFSETTO:+0100
TZNAME:CET
DTSTART:20221030T010000
END:STANDARD
END:VTIMEZONE
BEGIN:VEVENT
DTSTART;TZID=Europe/Brussels:20220515T083000
DTEND;TZID=Europe/Brussels:20220515T160000
DTSTAMP:20260420T202806
CREATED:20220422T144928Z
LAST-MODIFIED:20220422T144928Z
UID:6978-1652603400-1652630400@www.socialekalender.be
SUMMARY:LIKONA-lenteontmoeting
DESCRIPTION:Zowel dit jaar als vorig jaar organiseerden we de LIKONA-contactdag online. We genoten van boeiende lezingen\, maar misten het contact met elkaar. Daar willen we op de LIKONA-lenteontmoeting iets aan doen met een aanbod aan excursies en buitenactiviteiten in en rond Landcommanderij Alden Biesen. Meer informatie en inschrijven via www.provinciaalnatuurcentrum.be.
URL:https://www.socialekalender.be/evenement/likona-lenteontmoeting/
LOCATION:Tiendschuur Alden Biesen\, Kasteelstraat 6\, Bilzen\, Limburg\, 3740\, België
ATTACH;FMTTYPE=image/jpeg:https://www.socialekalender.be/wp-content/uploads/2022/04/Alden-Biesen-1.jpg
END:VEVENT
BEGIN:VEVENT
DTSTART;TZID=Europe/Brussels:20220515T100000
DTEND;TZID=Europe/Brussels:20220515T100000
DTSTAMP:20260420T202806
CREATED:20220424T160136Z
LAST-MODIFIED:20220424T160136Z
UID:6986-1652608800-1652608800@www.socialekalender.be
SUMMARY:Klimaatwandeling Beringen
DESCRIPTION:Okra wil via deze gegidste wandeling de 55+’ers in aanraking brengen met de problematiek van de klimaatopwarming. Afstand ongeveer 3 km. In samenwerking met het Provinciaal Natuurcentrum en Grootouders voor het Klimaat Limburg.
URL:https://www.socialekalender.be/evenement/klimaatwandeling-beringen/
LOCATION:B-MINE\, Koolmijnlaan 201\, Beringen\, Limburg\, 3582\, België
ATTACH;FMTTYPE=image/jpeg:https://www.socialekalender.be/wp-content/uploads/2022/04/Natuurwandeling.jpg
END:VEVENT
BEGIN:VEVENT
DTSTART;TZID=Europe/Brussels:20220515T100000
DTEND;TZID=Europe/Brussels:20220515T170000
DTSTAMP:20260420T202806
CREATED:20220422T144415Z
LAST-MODIFIED:20220422T144415Z
UID:6972-1652608800-1652634000@www.socialekalender.be
SUMMARY:Welzijnscampus Genk zet deuren open
DESCRIPTION:Op zondag 15 mei vieren we de Dag van de Zorg. Stad Genk werd\, met 15 deelnemende organisaties\, uitgeroepen tot ‘Zorgstad’ van deze editie. Naast het Kinderpsychiatrisch Centrum Genk vzw\, OOOC Kompas\, het CM-gezondheidspunt Genk en CAW Limburg nemen 11 partners op campus Portavida\, de welzijnscampus van Genk\, deel aan de Dag van de Zorg. Van 10 tot 17 uur ben je welkom voor een kennismaking met 11 organisaties op de campus: Sociaal Huis Portavida\, Wit-Gele Kruis Limburg\, De Start\, Covida\, ZOG Genk – wzc Toermalien\, Pleegzorg Limburg\, Familiehulp\, Strijkwinkel Alternatief vzw\, CAW Limburg\, Dienstencentrum ’t Klavertje en het Vertrouwenscentrum Kindermishandeling Limburg. Je krijgt er meer informatie over de dienstverlening en projecten op Portavida\, alsook over de Genkse dienstencentra en vzw Menos die met een stand aanwezig zijn. Je kan er gesprekken voeren met medewerkers o.a. over hun ervaringen in de welzijnssector\, vacatures en vrijwilligerswerk. Voor een hapje en een drankje kan je terecht in Grand Kaffee Portavida.
URL:https://www.socialekalender.be/evenement/welzijnscampus-genk-zet-deuren-open/
LOCATION:Portavida\, Welzijnscazmpus 11\, Genk\, Limburg\, 3600\, België
ATTACH;FMTTYPE=image/jpeg:https://www.socialekalender.be/wp-content/uploads/2022/04/portavida.jpg
END:VEVENT
END:VCALENDAR