BEGIN:VCALENDAR
VERSION:2.0
PRODID:-//Sociale Kalender - ECPv6.2.9//NONSGML v1.0//EN
CALSCALE:GREGORIAN
METHOD:PUBLISH
X-ORIGINAL-URL:https://www.socialekalender.be
X-WR-CALDESC:Evenementen voor Sociale Kalender
REFRESH-INTERVAL;VALUE=DURATION:PT1H
X-Robots-Tag:noindex
X-PUBLISHED-TTL:PT1H
BEGIN:VTIMEZONE
TZID:Europe/Brussels
BEGIN:DAYLIGHT
TZOFFSETFROM:+0100
TZOFFSETTO:+0200
TZNAME:CEST
DTSTART:20220327T010000
END:DAYLIGHT
BEGIN:STANDARD
TZOFFSETFROM:+0200
TZOFFSETTO:+0100
TZNAME:CET
DTSTART:20221030T010000
END:STANDARD
END:VTIMEZONE
BEGIN:VEVENT
DTSTART;TZID=Europe/Brussels:20220518T180000
DTEND;TZID=Europe/Brussels:20220518T180000
DTSTAMP:20260420T202803
CREATED:20220329T155204Z
LAST-MODIFIED:20220329T155204Z
UID:6839-1652896800-1652896800@www.socialekalender.be
SUMMARY:Wat bomen ons vertellen
DESCRIPTION:Valerie Trouet is dendrochronoloog. Aan de hand van jaarringen bestudeert zij het klimaat uit het verleden en de invloed ervan op ecosystemen en samenlevingen. In haar boek “Wat bomen ons vertellen” toont ze hoe de dendrochronologie zich heeft ontwikkeld tot een van de belangrijkste instrumenten om de complexe interacties tussen bossen\, mensen en het klimaat te bestuderen. Inschrijven is verplicht via deze link.
URL:https://www.socialekalender.be/evenement/wat-bomen-ons-vertellen/
LOCATION:Hogeschool PXL\, PXL-Congress (gebouw D)\, Elfde-Liniestraat 23a\, Hasselt\, 3500
ATTACH;FMTTYPE=image/jpeg:https://www.socialekalender.be/wp-content/uploads/2022/03/Valerie-Trouet.jpg
END:VEVENT
END:VCALENDAR