BEGIN:VCALENDAR
VERSION:2.0
PRODID:-//Sociale Kalender - ECPv6.2.9//NONSGML v1.0//EN
CALSCALE:GREGORIAN
METHOD:PUBLISH
X-WR-CALNAME:Sociale Kalender
X-ORIGINAL-URL:https://www.socialekalender.be
X-WR-CALDESC:Evenementen voor Sociale Kalender
REFRESH-INTERVAL;VALUE=DURATION:PT1H
X-Robots-Tag:noindex
X-PUBLISHED-TTL:PT1H
BEGIN:VTIMEZONE
TZID:Europe/Brussels
BEGIN:DAYLIGHT
TZOFFSETFROM:+0100
TZOFFSETTO:+0200
TZNAME:CEST
DTSTART:20220327T010000
END:DAYLIGHT
BEGIN:STANDARD
TZOFFSETFROM:+0200
TZOFFSETTO:+0100
TZNAME:CET
DTSTART:20221030T010000
END:STANDARD
END:VTIMEZONE
BEGIN:VEVENT
DTSTART;TZID=Europe/Brussels:20220521T133000
DTEND;TZID=Europe/Brussels:20220521T133000
DTSTAMP:20260420T203311
CREATED:20220411T132712Z
LAST-MODIFIED:20220411T132712Z
UID:6934-1653139800-1653139800@www.socialekalender.be
SUMMARY:Hasselt anders bekeken
DESCRIPTION:Steden zijn spiegels\, niet alleen van etalages vol koopwaar\, maar ook van een stuk verleden. Het stadsweefsel spreekt de taal van een tijd. Het zegt ons wat er ooit omging\, wie het voor het zeggen had en wie onderlag\, of zich met kruimels tevreden moest stellen. Met de tijd zijn een aantal verhalen ondergesneeuwd\, buurten ge(lit)tekend door de macht van de centen\, of door megalomanie. Andere plekken zijn dan weer opgewaardeerd\, soms ten koste van de oorspronkelijke bewoners. Wie goed kijkt ziet dat een beleid keuzes maakt in goede of slechte zin. Soms zo opvallend dat je er niet naast kunt kijken\, zoals ’t Scheep\, de Tweetorenwijk of het gerechtsgebouw. Schaalbreuk die pijn doet aan de ogen. Soms onzichtbaar\, zoals ooit de keuze voor gratis openbaar vervoer\, meer wijkcohesie of schonere lucht. De stad heeft alles van een boek. Met huizen\, pleinen en monumenten als woorden. Samen vormen ze een verhaal met een plot dat vaak tot nadenken stemt. Stap mee en kijk met andere ogen naar de stad van de smaak. \nTijdens deze wandeling breng je ook een bezoekje (gratis) aan stedelijk museum Het Stadsmus\, waar je de expo rond stadsbeweging De Nieuwsgierige Hasselaar even kan bekijken. Herman Laitem speelt gids. Wie recht heeft op het Kansentarief hoeft maar € 1\,80 te betalen.
URL:https://www.socialekalender.be/evenement/hasselt-anders-bekeken/
LOCATION:parking Gelantineboulevard
ATTACH;FMTTYPE=image/jpeg:https://www.socialekalender.be/wp-content/uploads/2022/04/scheep.jpg
END:VEVENT
BEGIN:VEVENT
DTSTART;TZID=Europe/Brussels:20220521T150000
DTEND;TZID=Europe/Brussels:20220521T160000
DTSTAMP:20260420T203311
CREATED:20220403T153652Z
LAST-MODIFIED:20220403T153652Z
UID:6882-1653145200-1653148800@www.socialekalender.be
SUMMARY:Kringlopen voor een leefbare wereld
DESCRIPTION:Even voor de zomer van 2020 ging er in Hasselt een nieuwe burgerbeweging van start\, De Ring. Zij brengt mensen samen om te bouwen aan een warme samenleving met een duurzame levensstijl. Ook blijft ze de urgentie van een ingrijpend klimaatbeleid op de agenda zetten. Het is de bedoeling van De Ring om geregeld een wandeling te maken over het voetpad langs de Groene Boulevard in Hasselt (kringlopen)\, om zo een band te scheppen tussen de deelnemers. Sinds maart vindt het kringlopen maandelijks plaats\, elke derde zaterdag. De initiatiefnemers vinden direct menselijk contact een communicatieve meerwaarde in tijden van digitalisering. Het is telkens een kleurrijke optocht\, en iedereen wordt aangemoedigd om spandoeken en borden mee te brengen.
URL:https://www.socialekalender.be/evenement/kringlopen-voor-een-leefbare-wereld-9/
LOCATION:Kolonel Dusartplein\, Kolonel Dusartplein\, Hasselt\, 3500
ATTACH;FMTTYPE=image/jpeg:https://www.socialekalender.be/wp-content/uploads/2022/02/kringlopen-12.21-1.jpg
END:VEVENT
END:VCALENDAR