BEGIN:VCALENDAR
VERSION:2.0
PRODID:-//Sociale Kalender - ECPv6.2.9//NONSGML v1.0//EN
CALSCALE:GREGORIAN
METHOD:PUBLISH
X-ORIGINAL-URL:https://www.socialekalender.be
X-WR-CALDESC:Evenementen voor Sociale Kalender
REFRESH-INTERVAL;VALUE=DURATION:PT1H
X-Robots-Tag:noindex
X-PUBLISHED-TTL:PT1H
BEGIN:VTIMEZONE
TZID:Europe/Brussels
BEGIN:DAYLIGHT
TZOFFSETFROM:+0100
TZOFFSETTO:+0200
TZNAME:CEST
DTSTART:20220327T010000
END:DAYLIGHT
BEGIN:STANDARD
TZOFFSETFROM:+0200
TZOFFSETTO:+0100
TZNAME:CET
DTSTART:20221030T010000
END:STANDARD
END:VTIMEZONE
BEGIN:VEVENT
DTSTART;TZID=Europe/Brussels:20220605T140000
DTEND;TZID=Europe/Brussels:20220605T160000
DTSTAMP:20260420T185841
CREATED:20220306T165931Z
LAST-MODIFIED:20220306T165931Z
UID:6771-1654437600-1654444800@www.socialekalender.be
SUMMARY:VELT-ecotuindag
DESCRIPTION:Om 14u start er een kruidenwandeling\, om 15u bezoeken we de imkerij. De tuiniers geven uitleg bij de teelt van allerlei gewassen\, en je kan ook meekijken hoe verschillende kunstenaars de omgeving op canvas neerzetten.
URL:https://www.socialekalender.be/evenement/velt-ecotuindag/
LOCATION:bezoekerscentrum Hengelhoef\, Hengelhoefdreef 6\, Houthalen\, 3530
ATTACH;FMTTYPE=image/jpeg:https://www.socialekalender.be/wp-content/uploads/2022/03/ecotuin-bezoekerscentrum.jpg
END:VEVENT
END:VCALENDAR