BEGIN:VCALENDAR
VERSION:2.0
PRODID:-//Sociale Kalender - ECPv6.2.9//NONSGML v1.0//EN
CALSCALE:GREGORIAN
METHOD:PUBLISH
X-WR-CALNAME:Sociale Kalender
X-ORIGINAL-URL:https://www.socialekalender.be
X-WR-CALDESC:Evenementen voor Sociale Kalender
REFRESH-INTERVAL;VALUE=DURATION:PT1H
X-Robots-Tag:noindex
X-PUBLISHED-TTL:PT1H
BEGIN:VTIMEZONE
TZID:Europe/Brussels
BEGIN:DAYLIGHT
TZOFFSETFROM:+0100
TZOFFSETTO:+0200
TZNAME:CEST
DTSTART:20220327T010000
END:DAYLIGHT
BEGIN:STANDARD
TZOFFSETFROM:+0200
TZOFFSETTO:+0100
TZNAME:CET
DTSTART:20221030T010000
END:STANDARD
END:VTIMEZONE
BEGIN:VEVENT
DTSTART;TZID=Europe/Brussels:20220615T190000
DTEND;TZID=Europe/Brussels:20220615T210000
DTSTAMP:20260420T185843
CREATED:20220528T120006Z
LAST-MODIFIED:20220528T120006Z
UID:7109-1655319600-1655326800@www.socialekalender.be
SUMMARY:Interlevensbeschouwelijke quiz
DESCRIPTION:Avansa organiseert een quiz over de verschillende levensbeschouwingen\, deze keer op vraag van Huis van de Mens Tongeren. De nadruk ligt niet op de wedstrijd\, maar op de leergierigheid en dialoog. De quiz gaat online door. Sam Stefani praat alles aan elkaar. Na inschrijving ontvang je per mail een Zoomlink. Log een kwartier op voorhand in om alles vlot te laten verlopen.
URL:https://www.socialekalender.be/evenement/interlevensbeschouwelijke-quiz/
LOCATION:ONLINE
ATTACH;FMTTYPE=image/jpeg:https://www.socialekalender.be/wp-content/uploads/2022/05/kunst-boeddha-1.jpg
END:VEVENT
END:VCALENDAR