BEGIN:VCALENDAR
VERSION:2.0
PRODID:-//Sociale Kalender - ECPv6.2.9//NONSGML v1.0//EN
CALSCALE:GREGORIAN
METHOD:PUBLISH
X-ORIGINAL-URL:https://www.socialekalender.be
X-WR-CALDESC:Evenementen voor Sociale Kalender
REFRESH-INTERVAL;VALUE=DURATION:PT1H
X-Robots-Tag:noindex
X-PUBLISHED-TTL:PT1H
BEGIN:VTIMEZONE
TZID:Europe/Brussels
BEGIN:DAYLIGHT
TZOFFSETFROM:+0100
TZOFFSETTO:+0200
TZNAME:CEST
DTSTART:20220327T010000
END:DAYLIGHT
BEGIN:STANDARD
TZOFFSETFROM:+0200
TZOFFSETTO:+0100
TZNAME:CET
DTSTART:20221030T010000
END:STANDARD
END:VTIMEZONE
BEGIN:VEVENT
DTSTART;TZID=Europe/Brussels:20220616T190000
DTEND;TZID=Europe/Brussels:20220616T210000
DTSTAMP:20260420T185841
CREATED:20220507T080325Z
LAST-MODIFIED:20220507T080325Z
UID:7049-1655406000-1655413200@www.socialekalender.be
SUMMARY:Lezing over de filosoof Theodor Lessing
DESCRIPTION:Herman Simissen\, geeft een uiteenzetting over de joodse en Duitstalige filosoof Theodor Lessing (1872-1933). Lessing staat bekend als de “filosoof van de daad”. Hij zag als einddoel de verlichting van menselijke noden\, en streefde ernaar om met in praktijk gebrachte filosofie een verschil in de wereld te brengen. Van hieruit maakte hij ook een onderscheid tussen academische filosofie en ware filosofie: ware filosofie ontspruit uit een innerlijke noodzaak. Ook in de kennistheorie neemt hij een erg kritische plaats in. Feitenanalyse en waarheidsvinding zijn een heikele onderneming. Dat geldt des te meer voor geschiedschrijving\, omdat hier allerlei belangen zorgen voor inkleuring. In zijn boek “Geschichte als Sinngebung des Sinnlosen” beschrijft hij dat geschiedenis neerkomt op een “mythisch construct dat opgelegd wordt op een onbekende realiteit om die enige schijn van betekenis te geven.”
URL:https://www.socialekalender.be/evenement/lezing-over-de-filosoof-theodor-lessing/
LOCATION:Universiteit Hasselt Campus Oude Gevangenis\, Auditorium Louis Roppe\, Martelarenlaan 42\, Hasselt\, 3500\, België
ATTACH;FMTTYPE=image/jpeg:https://www.socialekalender.be/wp-content/uploads/2022/05/Theodor-Lessing.jpg
ORGANIZER;CN="Open Universiteit Hasselt":MAILTO:openuniversiteit@uhasselt.be
END:VEVENT
BEGIN:VEVENT
DTSTART;TZID=Europe/Brussels:20220616T193000
DTEND;TZID=Europe/Brussels:20220616T220000
DTSTAMP:20260420T185841
CREATED:20220413T094549Z
LAST-MODIFIED:20220413T094549Z
UID:6946-1655407800-1655416800@www.socialekalender.be
SUMMARY:Introductie in de permacultuur
DESCRIPTION:Permacultuur is aan een opmars bezig. Meer en meer beginnende tuiniers zijn er zich van bewust dat de natuur een belangrijke rol speelt in de tuin en ook aandacht verdient. Permacultuur is een ontwerpsysteem met als doel om zowel de mens als de natuur op een duurzame manier samen te laten bestaan. \nTijdens deze lezing wordt een inleiding gegeven over permacultuur. Wat is het nu juist\, welke principes worden gehanteerd\, en kan het ook in een kleine tuin? Er worden ook een aantal praktische tips gegeven om met de natuur mee te werken in de tuin. \nSchrijf je voor 2 juni 2022 in voor deze zeer interessante lezing. Inschrijven kan door een mailtje te sturen naar velt.genk@gmail.com
URL:https://www.socialekalender.be/evenement/introductie-in-de-permacultuur/
LOCATION:Heempark\, Hoogzij 7\, Genk\, 3600\, België
ATTACH;FMTTYPE=image/jpeg:https://www.socialekalender.be/wp-content/uploads/2020/10/permacultuurtuin.jpg
END:VEVENT
END:VCALENDAR