BEGIN:VCALENDAR
VERSION:2.0
PRODID:-//Sociale Kalender - ECPv6.2.9//NONSGML v1.0//EN
CALSCALE:GREGORIAN
METHOD:PUBLISH
X-WR-CALNAME:Sociale Kalender
X-ORIGINAL-URL:https://www.socialekalender.be
X-WR-CALDESC:Evenementen voor Sociale Kalender
REFRESH-INTERVAL;VALUE=DURATION:PT1H
X-Robots-Tag:noindex
X-PUBLISHED-TTL:PT1H
BEGIN:VTIMEZONE
TZID:Europe/Brussels
BEGIN:DAYLIGHT
TZOFFSETFROM:+0100
TZOFFSETTO:+0200
TZNAME:CEST
DTSTART:20220327T010000
END:DAYLIGHT
BEGIN:STANDARD
TZOFFSETFROM:+0200
TZOFFSETTO:+0100
TZNAME:CET
DTSTART:20221030T010000
END:STANDARD
END:VTIMEZONE
BEGIN:VEVENT
DTSTART;TZID=Europe/Brussels:20220617T090000
DTEND;TZID=Europe/Brussels:20220617T163000
DTSTAMP:20260420T185845
CREATED:20220528T115626Z
LAST-MODIFIED:20220528T115626Z
UID:7101-1655456400-1655483400@www.socialekalender.be
SUMMARY:Jef Lingier stelt tentoon
DESCRIPTION:Jef Lingier woont sinds twee jaar in Meulenberg. Vaak maakt hij een wandeling en ontmoet zo nieuwe mensen. Hij verwonderde zich over hun hartelijkheid en vroeg of hij hen mocht schilderen. Achttien portretten kwamen tot stand. Ook het zwerfvuil was een inspiratiebron. De reeks met blikjes werd voor hem een verbeelding van de geblutste en gekwetste mens. De tentoonstelling loopt tot en met 17 juni tijdens de openingsuren van het Casino.
URL:https://www.socialekalender.be/evenement/jef-lingier-stelt-tentoon/
LOCATION:Cultuurhuis Casino\, Varenstraat 22a\, Meulenberg-Houthalen\, Limburg\, 3530\, België
ATTACH;FMTTYPE=image/jpeg:https://www.socialekalender.be/wp-content/uploads/2022/05/Jef-Lingier2.jpg
END:VEVENT
BEGIN:VEVENT
DTSTART;TZID=Europe/Brussels:20220617T200000
DTEND;TZID=Europe/Brussels:20220617T200000
DTSTAMP:20260420T185845
CREATED:20220523T130751Z
LAST-MODIFIED:20220523T130751Z
UID:7074-1655496000-1655496000@www.socialekalender.be
SUMMARY:Het vrouwbeeld van Jan Van Eyck
DESCRIPTION:Heppeneert is\, net als Aldeneik\, veel ouder dan (Maes)Eyck en stond onder gezag van de machtige zusters van Thorn. Werden die gezien als de opvolgers van de heilige zussen? Zijn daar sporen van te vinden in zijn werk? Wellicht\, maar oppassen met wishfull thinking! De kerk van Heppeneert (en de tuin) is een ideale plaats voor een lezing. Niet alleen is er nog steeds een eeuwenoud retabel in gebruik als instrument van devotie. Als Mariabedevaartsoord biedt deze heilige plaats een rijk overzicht van vrouwelijke christelijke spiritualiteit. Laat ons de beeldtaal van Van Eyck eens toetsen aan deze eeuwenoude archetypen. Een gespreksavond met José Raets\, klinisch psychologe. Inschrijven kan telefonisch of \nvia: https://maaseikvaneyck.be/kalender/inschrijving-lezing-vrouwbeeld.html \n  \n 
URL:https://www.socialekalender.be/evenement/het-vrouwbeeld-van-jan-van-eyck/
LOCATION:Sint-Gertrudiskerk\, Heppeneert z/n\, Maaseik\, Limburg\, 3680\, België
ATTACH;FMTTYPE=image/jpeg:https://www.socialekalender.be/wp-content/uploads/2022/05/Van-Eyck.jpg
END:VEVENT
END:VCALENDAR