BEGIN:VCALENDAR
VERSION:2.0
PRODID:-//Sociale Kalender - ECPv6.2.9//NONSGML v1.0//EN
CALSCALE:GREGORIAN
METHOD:PUBLISH
X-ORIGINAL-URL:https://www.socialekalender.be
X-WR-CALDESC:Evenementen voor Sociale Kalender
REFRESH-INTERVAL;VALUE=DURATION:PT1H
X-Robots-Tag:noindex
X-PUBLISHED-TTL:PT1H
BEGIN:VTIMEZONE
TZID:Europe/Brussels
BEGIN:DAYLIGHT
TZOFFSETFROM:+0100
TZOFFSETTO:+0200
TZNAME:CEST
DTSTART:20220327T010000
END:DAYLIGHT
BEGIN:STANDARD
TZOFFSETFROM:+0200
TZOFFSETTO:+0100
TZNAME:CET
DTSTART:20221030T010000
END:STANDARD
END:VTIMEZONE
BEGIN:VEVENT
DTSTART;TZID=Europe/Brussels:20220618T080000
DTEND;TZID=Europe/Brussels:20220618T130000
DTSTAMP:20260420T185841
CREATED:20220403T153117Z
LAST-MODIFIED:20220403T153117Z
UID:6876-1655539200-1655557200@www.socialekalender.be
SUMMARY:Biomarkt
DESCRIPTION:Limburg is erg rijk aan basisinitiatieven met een ecologisch en/of sociaal profiel. Hierdoor is er een sterk netwerk gegroeid van mensen en groepen die bewust\, duurzaam en solidair door het leven willen gaan. Ook tijdens de coronacrisis bleven er onder de oppervlakte heel wat dingen doorleven en groeien. De biomarkt in Winterslag is er één van. Elke zaterdag tijdens de markt in de Vennestraat opent zij haar deuren en kramen enkele meters verderop\, ter hoogte van de Hoefstadstraat 21. Het is een initiatief van vzw Rosendal Marked\, een project naar Deense inspiratie van Gilberte Claes. De bioboerderij Het Vrije Veld van Souliman Diraa verleende er dadelijk haar medewerking aan. Vier verkooppunten zorgen voor een gevarieerd aanbod. Binnen staat Gilberte achter de balie en biedt ze een assortiment van ter plaatse gebakken broden\, taarten en gebak aan. Robin Geurts is er de bakker van dienst. Daarnaast verkoopt Gilberte nog sappen en ook kazen vanuit de korte keten (Karditsel\, Catharinadal). Buiten brengt Souliman groenten en fruit aan de man\, deels van eigen teelt\, deels van andere Limburgse bioboeren\, aangevuld met enkele producten uit de biologische groothandel. Even verderop staat er een verkoper van Mycotopia (Diepenbeek) met verschillende soorten zelfgeteelde paddenstoelen. Tenslotte is er nog een verkoopstand van Kiemm met kweekpotten en zaden voor de keuken. De biomarkt is het jaar rond present.
URL:https://www.socialekalender.be/evenement/biomarkt-19/
LOCATION:Hoefstadstraat\, Hoefstadstraat\, Winterslag-Genk\, Limburg\, 3600\, België
ATTACH;FMTTYPE=image/jpeg:https://www.socialekalender.be/wp-content/uploads/2021/11/Souliman-biomarkt2-1-scaled.jpg
END:VEVENT
BEGIN:VEVENT
DTSTART;TZID=Europe/Brussels:20220618T140000
DTEND;TZID=Europe/Brussels:20220618T140000
DTSTAMP:20260420T185841
CREATED:20220429T160101Z
LAST-MODIFIED:20220429T160101Z
UID:7035-1655560800-1655560800@www.socialekalender.be
SUMMARY:Voorstelling Neeroeters woordenboek
DESCRIPTION:Na enkele jaren opzoekingswerk is het digitale woordenboek van het Neeroeterse dialect klaar\, met audio-opnames. Het bevat meer dan 4.200 woorden. De presentatie ervan vindt plaats tijdens een feestelijke namiddag. Prof. Dirk Vosters zal een uiteenzetting geven\, er is een dialectquiz\, toneelgroep De Voortgang treedt op en Sofie zingt in ’t Neroters.
URL:https://www.socialekalender.be/evenement/voorstelling-neeroeters-woordenboek/
LOCATION:CC Neeroeteren\, Scholtisplein 2\, Maaseik\, Limburg\, 3680\, België
ATTACH;FMTTYPE=image/jpeg:https://www.socialekalender.be/wp-content/uploads/2022/04/Neroterse-kal.jpg
END:VEVENT
BEGIN:VEVENT
DTSTART;TZID=Europe/Brussels:20220618T150000
DTEND;TZID=Europe/Brussels:20220618T160000
DTSTAMP:20260420T185841
CREATED:20220601T085106Z
LAST-MODIFIED:20220601T085106Z
UID:7126-1655564400-1655568000@www.socialekalender.be
SUMMARY:Kringlopen voor een leefbare wereld
DESCRIPTION:Even voor de zomer van 2020 ging er in Hasselt een nieuwe burgerbeweging van start\, De Ring. Zij brengt mensen samen om te bouwen aan een warme samenleving met een duurzame levensstijl. Ook blijft ze de urgentie van een ingrijpend klimaatbeleid op de agenda zetten. Het is de bedoeling van De Ring om geregeld een wandeling te maken over het voetpad langs de Groene Boulevard in Hasselt (kringlopen)\, om zo een band te scheppen tussen de deelnemers. Sinds maart vindt het kringlopen maandelijks plaats\, elke derde zaterdag. De initiatiefnemers vinden direct menselijk contact een communicatieve meerwaarde in tijden van digitalisering. Het is telkens een kleurrijke optocht\, en iedereen wordt aangemoedigd om spandoeken en borden mee te brengen.
URL:https://www.socialekalender.be/evenement/kringlopen-voor-een-leefbare-wereld-10/
LOCATION:Kolonel Dusartplein\, Kolonel Dusartplein\, Hasselt\, 3500
ATTACH;FMTTYPE=image/jpeg:https://www.socialekalender.be/wp-content/uploads/2022/02/kringlopen-12.21-1.jpg
END:VEVENT
BEGIN:VEVENT
DTSTART;TZID=Europe/Brussels:20220618T210000
DTEND;TZID=Europe/Brussels:20220618T235900
DTSTAMP:20260420T185841
CREATED:20220424T161155Z
LAST-MODIFIED:20220424T161155Z
UID:6996-1655586000-1655596740@www.socialekalender.be
SUMMARY:Op zoek naar de nachtzwaluw (wandeling)
DESCRIPTION:De nachtzwaluw is evolutionair gezien een van de oudste vogelsoorten (en dus helemaal niet verwant aan de zwaluwen). Hij was bijna uit onze contreien verdwenen. Tegenwoordig gaat hij er weer op vooruit in de schrale heidelandschappen van de Limburgse Kempen\, maar ook op de stenige terrils van de mijnstreek. Zijn aanwezigheid is gemakkelijk te detecteren door zijn ronkende zang en typische foerageervlucht. We gaan hem een bezoek brengen in het gebied van Klaverberg\, Opglabbekerzavel en de vroegere mijnterrils van Waterschei. We nemen ook onze batdetector mee\, want het gebied is uitzonderlijk rijk aan vleermuissoorten. Ongetwijfeld kruisen we bovendien het pad van rugstreeppadden en glimwormen.
URL:https://www.socialekalender.be/evenement/op-zoek-naar-de-nachtzwaluw-wandeling/
LOCATION:parking op hoek Fazantenstraat-Herengracht\, 3665 As\, Fazantenstraat\, As\, Limpburg\, 3665\, België
ATTACH;FMTTYPE=image/jpeg:https://www.socialekalender.be/wp-content/uploads/2022/04/nachtzwaluw.jpg
END:VEVENT
END:VCALENDAR