BEGIN:VCALENDAR
VERSION:2.0
PRODID:-//Sociale Kalender - ECPv6.2.9//NONSGML v1.0//EN
CALSCALE:GREGORIAN
METHOD:PUBLISH
X-WR-CALNAME:Sociale Kalender
X-ORIGINAL-URL:https://www.socialekalender.be
X-WR-CALDESC:Evenementen voor Sociale Kalender
REFRESH-INTERVAL;VALUE=DURATION:PT1H
X-Robots-Tag:noindex
X-PUBLISHED-TTL:PT1H
BEGIN:VTIMEZONE
TZID:Europe/Brussels
BEGIN:DAYLIGHT
TZOFFSETFROM:+0100
TZOFFSETTO:+0200
TZNAME:CEST
DTSTART:20220327T010000
END:DAYLIGHT
BEGIN:STANDARD
TZOFFSETFROM:+0200
TZOFFSETTO:+0100
TZNAME:CET
DTSTART:20221030T010000
END:STANDARD
END:VTIMEZONE
BEGIN:VEVENT
DTSTART;TZID=Europe/Brussels:20220624T163000
DTEND;TZID=Europe/Brussels:20220624T163000
DTSTAMP:20260420T185844
CREATED:20220616T090838Z
LAST-MODIFIED:20220616T090838Z
UID:7170-1656088200-1656088200@www.socialekalender.be
SUMMARY:FantAStival
DESCRIPTION:FantAStival is een jaarlijks terugkerend ecocultureel evenement in en rond de geklasseerde museumkerk van Sint-Aldegondis in As. Je vindt er eetstanden (ook vegetarisch) naast een zomermarkt met tenten van Oxfam Wereldwinkels\, Velt en verkopers van allerhande handmade spullen. In de kerk is er een optreden van Jan Verstraeten naast een literair programma met Delphine Lecompte en Mauro. Meer info via https://www.as.be/fantastival-gratis-eco-cultureel-festival
URL:https://www.socialekalender.be/evenement/fantastival/
LOCATION:St-Aldegondisplein\, AS\, Limburg\, 3665\, België
ATTACH;FMTTYPE=image/jpeg:https://www.socialekalender.be/wp-content/uploads/2022/06/Sint-Aldegondiskerk.jpg
END:VEVENT
END:VCALENDAR