BEGIN:VCALENDAR
VERSION:2.0
PRODID:-//Sociale Kalender - ECPv6.2.9//NONSGML v1.0//EN
CALSCALE:GREGORIAN
METHOD:PUBLISH
X-ORIGINAL-URL:https://www.socialekalender.be
X-WR-CALDESC:Evenementen voor Sociale Kalender
REFRESH-INTERVAL;VALUE=DURATION:PT1H
X-Robots-Tag:noindex
X-PUBLISHED-TTL:PT1H
BEGIN:VTIMEZONE
TZID:Europe/Brussels
BEGIN:DAYLIGHT
TZOFFSETFROM:+0100
TZOFFSETTO:+0200
TZNAME:CEST
DTSTART:20220327T010000
END:DAYLIGHT
BEGIN:STANDARD
TZOFFSETFROM:+0200
TZOFFSETTO:+0100
TZNAME:CET
DTSTART:20221030T010000
END:STANDARD
END:VTIMEZONE
BEGIN:VEVENT
DTSTART;TZID=Europe/Brussels:20220625T103000
DTEND;TZID=Europe/Brussels:20220625T160000
DTSTAMP:20260420T185840
CREATED:20220605T123425Z
LAST-MODIFIED:20220605T123425Z
UID:7144-1656153000-1656172800@www.socialekalender.be
SUMMARY:Christelijke stille dag
DESCRIPTION:Zowat elke laatste zaterdag van de maand kunnen belangstellenden aansluiten bij een stille dag in het kader van de contemplatieve oefeningen van de Hongaarse jezuÏet Frans Jalics (1927-2001).Stapsgewijze worden ze ingeleid in het gebed zonder woorden of beelden\, dat uitmondt in het Jezusgebed.
URL:https://www.socialekalender.be/evenement/christelijke-stille-dag/
LOCATION:Leemkuilstraat\, Leemkuilenstraat 21\, Bocholt\, Limburg\, 3950\, België
ATTACH;FMTTYPE=image/jpeg:https://www.socialekalender.be/wp-content/uploads/2022/06/Rina-Kuypers.jpeg
END:VEVENT
END:VCALENDAR