BEGIN:VCALENDAR
VERSION:2.0
PRODID:-//Sociale Kalender - ECPv6.2.9//NONSGML v1.0//EN
CALSCALE:GREGORIAN
METHOD:PUBLISH
X-ORIGINAL-URL:https://www.socialekalender.be
X-WR-CALDESC:Evenementen voor Sociale Kalender
REFRESH-INTERVAL;VALUE=DURATION:PT1H
X-Robots-Tag:noindex
X-PUBLISHED-TTL:PT1H
BEGIN:VTIMEZONE
TZID:Europe/Brussels
BEGIN:DAYLIGHT
TZOFFSETFROM:+0100
TZOFFSETTO:+0200
TZNAME:CEST
DTSTART:20220327T010000
END:DAYLIGHT
BEGIN:STANDARD
TZOFFSETFROM:+0200
TZOFFSETTO:+0100
TZNAME:CET
DTSTART:20221030T010000
END:STANDARD
END:VTIMEZONE
BEGIN:VEVENT
DTSTART;TZID=Europe/Brussels:20220626T150000
DTEND;TZID=Europe/Brussels:20220626T150000
DTSTAMP:20260420T185840
CREATED:20220605T094945Z
LAST-MODIFIED:20220605T094945Z
UID:7140-1656255600-1656255600@www.socialekalender.be
SUMMARY:Dialectvoordracht over Garde Civique
DESCRIPTION:Karin De Greeve vertelt je in sappig Hessels de geschiedenis van de Hasseltse Garde Civique. De burgerwacht werd in 1830 opgericht en vormde volgens de Belgische grondwet het openbaar gezag samen met het leger en de rijkswacht. Na de ontbinding in 1920 begon de Garde Civique in Hasselt een tweede leven in 1982 als culturele folkloristische beweging.
URL:https://www.socialekalender.be/evenement/dialectvoordracht-over-garde-civique/
LOCATION:Het Stadsmus\, Guido Gezellestraat 2\, Hasselt\, Limburg\, 3500\, België
ATTACH;FMTTYPE=image/jpeg:https://www.socialekalender.be/wp-content/uploads/2022/06/Garde-Civique-1.jpg
END:VEVENT
END:VCALENDAR