BEGIN:VCALENDAR
VERSION:2.0
PRODID:-//Sociale Kalender - ECPv6.2.9//NONSGML v1.0//EN
CALSCALE:GREGORIAN
METHOD:PUBLISH
X-ORIGINAL-URL:https://www.socialekalender.be
X-WR-CALDESC:Evenementen voor Sociale Kalender
REFRESH-INTERVAL;VALUE=DURATION:PT1H
X-Robots-Tag:noindex
X-PUBLISHED-TTL:PT1H
BEGIN:VTIMEZONE
TZID:Europe/Brussels
BEGIN:DAYLIGHT
TZOFFSETFROM:+0100
TZOFFSETTO:+0200
TZNAME:CEST
DTSTART:20220327T010000
END:DAYLIGHT
BEGIN:STANDARD
TZOFFSETFROM:+0200
TZOFFSETTO:+0100
TZNAME:CET
DTSTART:20221030T010000
END:STANDARD
END:VTIMEZONE
BEGIN:VEVENT
DTSTART;TZID=Europe/Brussels:20220703T130000
DTEND;TZID=Europe/Brussels:20220703T170000
DTSTAMP:20260420T172852
CREATED:20220605T175926Z
LAST-MODIFIED:20220605T175926Z
UID:7148-1656853200-1656867600@www.socialekalender.be
SUMMARY:Leren composteren
DESCRIPTION:Tuinafval en groenteafval kan je perfect thuis verwerken door te composteren. Het kost niets\, en je bent duurzaam bezig. In de toontuin van het Heempark staan de compostmeesters je graag te woord met allerlei tips.
URL:https://www.socialekalender.be/evenement/leren-composteren/
LOCATION:Heempark\, Hoogzij 7\, Genk\, 3600\, België
ATTACH;FMTTYPE=image/jpeg:https://www.socialekalender.be/wp-content/uploads/2022/06/composteren.jpg
END:VEVENT
END:VCALENDAR