BEGIN:VCALENDAR
VERSION:2.0
PRODID:-//Sociale Kalender - ECPv6.2.9//NONSGML v1.0//EN
CALSCALE:GREGORIAN
METHOD:PUBLISH
X-WR-CALNAME:Sociale Kalender
X-ORIGINAL-URL:https://www.socialekalender.be
X-WR-CALDESC:Evenementen voor Sociale Kalender
REFRESH-INTERVAL;VALUE=DURATION:PT1H
X-Robots-Tag:noindex
X-PUBLISHED-TTL:PT1H
BEGIN:VTIMEZONE
TZID:Europe/Brussels
BEGIN:DAYLIGHT
TZOFFSETFROM:+0100
TZOFFSETTO:+0200
TZNAME:CEST
DTSTART:20220327T010000
END:DAYLIGHT
BEGIN:STANDARD
TZOFFSETFROM:+0200
TZOFFSETTO:+0100
TZNAME:CET
DTSTART:20221030T010000
END:STANDARD
END:VTIMEZONE
BEGIN:VEVENT
DTSTART;TZID=Europe/Brussels:20220711T050000
DTEND;TZID=Europe/Brussels:20220711T050000
DTSTAMP:20260420T172855
CREATED:20211223T145435Z
LAST-MODIFIED:20211223T145435Z
UID:6390-1657515600-1657515600@www.socialekalender.be
SUMMARY:Moordballades bij zonsopgang in Zutendaal dialect
DESCRIPTION:Stijn Segers brengt met akoestische begeleiding het muzikaal project Muurd in het stiltegebied Zwarte Put\, op de grens tussen Zutendaal\, Gellik en Bilzen. Het repertoire omvat dialectliedjes over moorden die in Zutendaal plaatsvonden in de periode van 1740 tot 2015. De plaat is gratis te horen op de website www.tourbadour.com.
URL:https://www.socialekalender.be/evenement/moordballades-bij-zonsopgang-in-zutendaal-dialect/
LOCATION:Zwarte Put\, Roelen\, Zutendaal\, Limburg\, 3690\, België
ATTACH;FMTTYPE=image/jpeg:https://www.socialekalender.be/wp-content/uploads/2021/12/Muurd.jpg
END:VEVENT
END:VCALENDAR