BEGIN:VCALENDAR
VERSION:2.0
PRODID:-//Sociale Kalender - ECPv6.2.9//NONSGML v1.0//EN
CALSCALE:GREGORIAN
METHOD:PUBLISH
X-WR-CALNAME:Sociale Kalender
X-ORIGINAL-URL:https://www.socialekalender.be
X-WR-CALDESC:Evenementen voor Sociale Kalender
REFRESH-INTERVAL;VALUE=DURATION:PT1H
X-Robots-Tag:noindex
X-PUBLISHED-TTL:PT1H
BEGIN:VTIMEZONE
TZID:Europe/Brussels
BEGIN:DAYLIGHT
TZOFFSETFROM:+0100
TZOFFSETTO:+0200
TZNAME:CEST
DTSTART:20220327T010000
END:DAYLIGHT
BEGIN:STANDARD
TZOFFSETFROM:+0200
TZOFFSETTO:+0100
TZNAME:CET
DTSTART:20221030T010000
END:STANDARD
END:VTIMEZONE
BEGIN:VEVENT
DTSTART;TZID=Europe/Brussels:20220723T071500
DTEND;TZID=Europe/Brussels:20220723T190000
DTSTAMP:20260420T172855
CREATED:20220629T150947Z
LAST-MODIFIED:20220629T150947Z
UID:7194-1658560500-1658602800@www.socialekalender.be
SUMMARY:Uitstap: Grote Moskee\, Hortapaviljoen en Molenbeek
DESCRIPTION:In de voormiddag brengen we een bezoek aan De Grote Moskee in het Brusselse Jubelpark. Deze moskee heeft een lange en bewogen geschiedenis achter de rug. Een gids geeft ons meer uitleg. Naast de moskee ligt het Hortapaviljoen\, ontworpen door architect Victor Horta. Hier is ‘De menselijke driften’ te zien\, een reliëf van kunstenaar Jef Lambeaux. Samen met een gids ontdekken we het paviljoen. In de namiddag brengen we een bezoek aan Molenbeek. Een gids laat ons een andere kant zien van deze beruchte wijk. Begeleider: Sam Stefani. Afspraak stipt om 07:15 in de inkomhal van het station van Hasselt. Treintickets\, metrotickets en gidsprijzen zijn begrepen in de deelnameprijs. Middagmaal is niet begrepen. Tip: neem je eigen lunch mee. Kortingen mogelijk (zie website).
URL:https://www.socialekalender.be/evenement/uitstap-grote-moskee-hortapaviljoen-en-molenbeek/
ATTACH;FMTTYPE=image/jpeg:https://www.socialekalender.be/wp-content/uploads/2022/06/Grote-Moskee.jpg
END:VEVENT
END:VCALENDAR