BEGIN:VCALENDAR
VERSION:2.0
PRODID:-//Sociale Kalender - ECPv6.2.9//NONSGML v1.0//EN
CALSCALE:GREGORIAN
METHOD:PUBLISH
X-ORIGINAL-URL:https://www.socialekalender.be
X-WR-CALDESC:Evenementen voor Sociale Kalender
REFRESH-INTERVAL;VALUE=DURATION:PT1H
X-Robots-Tag:noindex
X-PUBLISHED-TTL:PT1H
BEGIN:VTIMEZONE
TZID:Europe/Brussels
BEGIN:DAYLIGHT
TZOFFSETFROM:+0100
TZOFFSETTO:+0200
TZNAME:CEST
DTSTART:20220327T010000
END:DAYLIGHT
BEGIN:STANDARD
TZOFFSETFROM:+0200
TZOFFSETTO:+0100
TZNAME:CET
DTSTART:20221030T010000
END:STANDARD
END:VTIMEZONE
BEGIN:VEVENT
DTSTART;TZID=Europe/Brussels:20220810T133000
DTEND;TZID=Europe/Brussels:20220810T133000
DTSTAMP:20260420T142534
CREATED:20220411T133725Z
LAST-MODIFIED:20220411T133725Z
UID:6942-1660138200-1660138200@www.socialekalender.be
SUMMARY:Wandelgesprek in Meeuwen
DESCRIPTION:Elkaar ontmoeten\, samen wandelen en ondertussen genieten van de omgeving en een goed gesprek. Dat kan deugd doen! We wandelen 10 kilometer aan een gezapig tempo. Huis van de Mens Bree organiseert regelmatig wandelgesprekken\, telkens door een ander landschap\, afwisselend 5 en 10 km lang. Andere wandelingen vinden plaats op 15/6 en 13/7. Ook het Huis van de Mens Genk organiseert een wandelgesprek op 15/6.
URL:https://www.socialekalender.be/evenement/wandelgesprek-in-meeuwen/
LOCATION:Dorpermolen\, Dorpermolenstraat\, Oudsbergen\, Limburg\, 3670\, België
ATTACH;FMTTYPE=image/jpeg:https://www.socialekalender.be/wp-content/uploads/2022/04/wandelgesprek.jpg
END:VEVENT
END:VCALENDAR