BEGIN:VCALENDAR
VERSION:2.0
PRODID:-//Sociale Kalender - ECPv6.2.9//NONSGML v1.0//EN
CALSCALE:GREGORIAN
METHOD:PUBLISH
X-ORIGINAL-URL:https://www.socialekalender.be
X-WR-CALDESC:Evenementen voor Sociale Kalender
REFRESH-INTERVAL;VALUE=DURATION:PT1H
X-Robots-Tag:noindex
X-PUBLISHED-TTL:PT1H
BEGIN:VTIMEZONE
TZID:Europe/Brussels
BEGIN:DAYLIGHT
TZOFFSETFROM:+0100
TZOFFSETTO:+0200
TZNAME:CEST
DTSTART:20220327T010000
END:DAYLIGHT
BEGIN:STANDARD
TZOFFSETFROM:+0200
TZOFFSETTO:+0100
TZNAME:CET
DTSTART:20221030T010000
END:STANDARD
END:VTIMEZONE
BEGIN:VEVENT
DTSTART;TZID=Europe/Brussels:20220827T140000
DTEND;TZID=Europe/Brussels:20220827T163000
DTSTAMP:20260420T142532
CREATED:20220710T142848Z
LAST-MODIFIED:20220710T142848Z
UID:7255-1661608800-1661617800@www.socialekalender.be
SUMMARY:Kruidenwandeling in pastorietuin Ham
DESCRIPTION:Gids Aline Sponholz van vzw Marjolein neemt je mee op een interessante wandeling langs allerlei kruiden en bloemen. Ze vertelt je over hun specifieke eigenschappen en wat je er allemaal mee kunt doen. Achteraf ben je ervan overtuigd dat onkruid niet bestaat. Kortingen mogelijk tot € 2\,20 (zie website).
URL:https://www.socialekalender.be/evenement/kruidenwandeling-in-pastorietuin-ham/
LOCATION:Oude Pastorie\, Pastoriestraat 5\, Ham\, Limburg\, 3945\, België
ATTACH;FMTTYPE=image/jpeg:https://www.socialekalender.be/wp-content/uploads/2022/07/pastorie-Ham.jpg
END:VEVENT
END:VCALENDAR