BEGIN:VCALENDAR
VERSION:2.0
PRODID:-//Sociale Kalender - ECPv6.2.9//NONSGML v1.0//EN
CALSCALE:GREGORIAN
METHOD:PUBLISH
X-ORIGINAL-URL:https://www.socialekalender.be
X-WR-CALDESC:Evenementen voor Sociale Kalender
REFRESH-INTERVAL;VALUE=DURATION:PT1H
X-Robots-Tag:noindex
X-PUBLISHED-TTL:PT1H
BEGIN:VTIMEZONE
TZID:Europe/Brussels
BEGIN:DAYLIGHT
TZOFFSETFROM:+0100
TZOFFSETTO:+0200
TZNAME:CEST
DTSTART:20220327T010000
END:DAYLIGHT
BEGIN:STANDARD
TZOFFSETFROM:+0200
TZOFFSETTO:+0100
TZNAME:CET
DTSTART:20221030T010000
END:STANDARD
END:VTIMEZONE
BEGIN:VEVENT
DTSTART;TZID=Europe/Brussels:20220829T133000
DTEND;TZID=Europe/Brussels:20220829T163000
DTSTAMP:20260420T142535
CREATED:20220629T154246Z
LAST-MODIFIED:20220629T154246Z
UID:7210-1661779800-1661790600@www.socialekalender.be
SUMMARY:Zomeruniversiteit over ethisch omgaan met actuele uitdagingen
DESCRIPTION:De vele veranderingen overweldigen ons met de ene ondenkbare crisis na de andere: pandemie\, oorlog\, klimaat. Elk levensdomein wordt hierdoor op de proef gesteld: gezondheidssysteem\, zorg\, sociaal leven\, arbeidsmarkt\, onderwijs\, … Hoe gaan we ethisch verantwoord om met deze actuele uitdagingen en inzichten? We verdiepen ons hierover tijdens de zomeruniversiteit in drie domeinen: economie & arbeidsmarkt\, zorg & welzijn\, energie & klimaat. Met o.a. prof. Dr. Wim Pinxten (UHasselt)\, Josefine Vanhille (UA)\, Katrien Ruytjens (Intervisor en docent ethiek)\, Jo Brouns (Vlaams minister van Economie\, Innovatie\, Werk\, Sociale economie en Landbouw)\, Vera Jans (Vlaams Parlementslid)\, Filip Vanlommel (Dir. De Winning)\, David Dessers (schepen van o.a. klimaat en duurzaamheid in Leuven). Driedaagse over maandag\, dinsdag en woensdag. Gratis\, maar inschrijven verplicht (liefst via website).
URL:https://www.socialekalender.be/evenement/zomeruniversiteit-over-ethisch-omgaan-met-actuele-uitdagingen/
LOCATION:Bewegingshuis\, Mgr. Broekxplein 6\, Hasselt\, 3500
ATTACH;FMTTYPE=image/jpeg:https://www.socialekalender.be/wp-content/uploads/2022/06/klimaatrechtvaardigheid-1.jpg
ORGANIZER;CN="Beweging.net Limburg":MAILTO:limburg@beweging.net
END:VEVENT
END:VCALENDAR