BEGIN:VCALENDAR
VERSION:2.0
PRODID:-//Sociale Kalender - ECPv6.2.9//NONSGML v1.0//EN
CALSCALE:GREGORIAN
METHOD:PUBLISH
X-WR-CALNAME:Sociale Kalender
X-ORIGINAL-URL:https://www.socialekalender.be
X-WR-CALDESC:Evenementen voor Sociale Kalender
REFRESH-INTERVAL;VALUE=DURATION:PT1H
X-Robots-Tag:noindex
X-PUBLISHED-TTL:PT1H
BEGIN:VTIMEZONE
TZID:Europe/Brussels
BEGIN:DAYLIGHT
TZOFFSETFROM:+0100
TZOFFSETTO:+0200
TZNAME:CEST
DTSTART:20220327T010000
END:DAYLIGHT
BEGIN:STANDARD
TZOFFSETFROM:+0200
TZOFFSETTO:+0100
TZNAME:CET
DTSTART:20221030T010000
END:STANDARD
END:VTIMEZONE
BEGIN:VEVENT
DTSTART;TZID=Europe/Brussels:20220831T090000
DTEND;TZID=Europe/Brussels:20220831T170000
DTSTAMP:20260420T125808
CREATED:20220801T133425Z
LAST-MODIFIED:20220801T133425Z
UID:7321-1661936400-1661965200@www.socialekalender.be
SUMMARY:Mens in de mijn (expo)
DESCRIPTION:Al sinds 1977 bezoekt fotograaf Leo van der Klej steenkoolmijnen in West-Europa en Japan\, vaak te voet of met de fiets. Hij gaat er in gesprek met de mensen. Dit is een overzichtstentoonstelling. Er zijn ook door de mijn geïnspireerde werken te bezichtigen van de studenten van de Academie Meylandt. Elke dag tot 31 augustus te bezichtigen van 9 tot 17u.
URL:https://www.socialekalender.be/evenement/mens-in-de-mijn-expo/
LOCATION:ZLDR Luchtfabriek\, Marktplein 5\, Zolder\, Limburg\, 3550\, België
ATTACH;FMTTYPE=image/jpeg:https://www.socialekalender.be/wp-content/uploads/2022/08/mijnwerker.jpg
END:VEVENT
BEGIN:VEVENT
DTSTART;TZID=Europe/Brussels:20220831T195000
DTEND;TZID=Europe/Brussels:20220831T195000
DTSTAMP:20260420T125808
CREATED:20220805T143047Z
LAST-MODIFIED:20220805T143047Z
UID:7344-1661975400-1661975400@www.socialekalender.be
SUMMARY:Zenmeditatie
DESCRIPTION:Deze meditatie vindt iedere woensdagavond plaats. Tweemaal een half uur zitmeditatie\, onderbroken door meditatief stappen (kinhin of wandelmeditatie). Er wordt dan ook samen naar een bezinnende tekst geluisterd. Achteraf wordt er nagepraat bij een kopje thee of koffie. Je hoeft niet vooraf te verwittigen. De ingang ligt achterom.
URL:https://www.socialekalender.be/evenement/zenmeditatie/
LOCATION:Siloam\, Holsteenweg 17\, Zonhoven\, 3520\, België
ATTACH;FMTTYPE=image/jpeg:https://www.socialekalender.be/wp-content/uploads/2022/08/zen-siloam.jpg
END:VEVENT
END:VCALENDAR