BEGIN:VCALENDAR
VERSION:2.0
PRODID:-//Sociale Kalender - ECPv6.2.9//NONSGML v1.0//EN
CALSCALE:GREGORIAN
METHOD:PUBLISH
X-WR-CALNAME:Sociale Kalender
X-ORIGINAL-URL:https://www.socialekalender.be
X-WR-CALDESC:Evenementen voor Sociale Kalender
REFRESH-INTERVAL;VALUE=DURATION:PT1H
X-Robots-Tag:noindex
X-PUBLISHED-TTL:PT1H
BEGIN:VTIMEZONE
TZID:Europe/Brussels
BEGIN:DAYLIGHT
TZOFFSETFROM:+0100
TZOFFSETTO:+0200
TZNAME:CEST
DTSTART:20220327T010000
END:DAYLIGHT
BEGIN:STANDARD
TZOFFSETFROM:+0200
TZOFFSETTO:+0100
TZNAME:CET
DTSTART:20221030T010000
END:STANDARD
END:VTIMEZONE
BEGIN:VEVENT
DTSTART;TZID=Europe/Brussels:20220906T110000
DTEND;TZID=Europe/Brussels:20220906T130000
DTSTAMP:20260420T125804
CREATED:20220713T123252Z
LAST-MODIFIED:20220713T123252Z
UID:7284-1662462000-1662469200@www.socialekalender.be
SUMMARY:Corda Repair Corner
DESCRIPTION:Vrijwilligers en professionals steken samen de handen uit de mouwen om allerlei spullen te herstellen en zo een langer leven te geven: elektrische apparaten\, kleren en fietsen. Met mensen uit de repaircafés\, maatwerkbedrijf Bewel en Decathlon. Iedere eerste dinsdag van de maand. Aan het onthaal in Corda 5.
URL:https://www.socialekalender.be/evenement/corda-repair-corner/
LOCATION:Corda Campus\, Kempische steenweg 293/16\, Hasselt\, Limburg\, 3500\, België
ATTACH;FMTTYPE=image/png:https://www.socialekalender.be/wp-content/uploads/2022/07/repair-corner.png
END:VEVENT
END:VCALENDAR