BEGIN:VCALENDAR
VERSION:2.0
PRODID:-//Sociale Kalender - ECPv6.2.9//NONSGML v1.0//EN
CALSCALE:GREGORIAN
METHOD:PUBLISH
X-WR-CALNAME:Sociale Kalender
X-ORIGINAL-URL:https://www.socialekalender.be
X-WR-CALDESC:Evenementen voor Sociale Kalender
REFRESH-INTERVAL;VALUE=DURATION:PT1H
X-Robots-Tag:noindex
X-PUBLISHED-TTL:PT1H
BEGIN:VTIMEZONE
TZID:Europe/Brussels
BEGIN:DAYLIGHT
TZOFFSETFROM:+0100
TZOFFSETTO:+0200
TZNAME:CEST
DTSTART:20220327T010000
END:DAYLIGHT
BEGIN:STANDARD
TZOFFSETFROM:+0200
TZOFFSETTO:+0100
TZNAME:CET
DTSTART:20221030T010000
END:STANDARD
END:VTIMEZONE
BEGIN:VEVENT
DTSTART;TZID=Europe/Brussels:20220907T150000
DTEND;TZID=Europe/Brussels:20220907T150000
DTSTAMP:20260420T125805
CREATED:20220601T085639Z
LAST-MODIFIED:20220601T085639Z
UID:7132-1662562800-1662562800@www.socialekalender.be
SUMMARY:Dialectdag in Meeuwen
DESCRIPTION:Het programma van deze inmiddels tot een stevige traditie uitgegroeide dialectnamiddag en -avond laveert tussen ernstig\, geestig en muzikaal. Het terras van de Dorpermolen vormt andermaal een gezellig en knus decor. Heemkring De Reengenoten en Tejater De Kwibus brengen traditiegetrouw een aantal gasten mee. Er zijn twee gelijke sessies: om 15u en om 19u.
URL:https://www.socialekalender.be/evenement/dialectdag-in-meeuwen/
LOCATION:Dorpermolen\, Dorpermolenstraat\, Oudsbergen\, Limburg\, 3670\, België
ATTACH;FMTTYPE=image/jpeg:https://www.socialekalender.be/wp-content/uploads/2021/09/Dorpermolen-Meeuwen.jpg
END:VEVENT
END:VCALENDAR