BEGIN:VCALENDAR
VERSION:2.0
PRODID:-//Sociale Kalender - ECPv6.2.9//NONSGML v1.0//EN
CALSCALE:GREGORIAN
METHOD:PUBLISH
X-ORIGINAL-URL:https://www.socialekalender.be
X-WR-CALDESC:Evenementen voor Sociale Kalender
REFRESH-INTERVAL;VALUE=DURATION:PT1H
X-Robots-Tag:noindex
X-PUBLISHED-TTL:PT1H
BEGIN:VTIMEZONE
TZID:Europe/Brussels
BEGIN:DAYLIGHT
TZOFFSETFROM:+0100
TZOFFSETTO:+0200
TZNAME:CEST
DTSTART:20220327T010000
END:DAYLIGHT
BEGIN:STANDARD
TZOFFSETFROM:+0200
TZOFFSETTO:+0100
TZNAME:CET
DTSTART:20221030T010000
END:STANDARD
END:VTIMEZONE
BEGIN:VEVENT
DTSTART;TZID=Europe/Brussels:20220909T093000
DTEND;TZID=Europe/Brussels:20220909T170000
DTSTAMP:20260420T172851
CREATED:20220905T123908Z
LAST-MODIFIED:20220905T123908Z
UID:7428-1662715800-1662742800@www.socialekalender.be
SUMMARY:Herdenking Jef Ulburghs
DESCRIPTION:100 jaar geleden werd Jef Ulburghs geboren. Dit wordt herdacht door de mensen van Stebo\, een van de organisaties die Jef in het leven riep. Om 9.30u gaan de deuren open voor een kop koffie en kennismaking. Na het inleidend woordje door directeur Erwin De bruyn (10u) volgen er drie lezingen: Danny Wildemeersch spreekt over de pedagogische aanpak van Jef\, Jac De bruyn en Jaak Kerkhofs over zijn religieuze beleving\, en Patrick Martens over zijn politieke erfenis. Om 12u is er een lunch\, en om 13u vertrekt een fietstocht over een nieuw uitgestippelde route die ons voert langs enkele betekenisvolle plekken uit het leven en werk van Jef (Zolder-Houthalen-Genk). Via een app kan men onderweg luisteren naar verhalen en getuigenissen van personen die dicht bij Jef stonden. Stebo voorziet voor iedereen een passend voertuig. Om 16u is er een feestelijke afsluiting. Inschrijven via https://stebo.be/inschrijven-fietsroute-jef-ulburghs/
URL:https://www.socialekalender.be/evenement/herdenking-jef-ulburghs/
LOCATION:Stebo\, Windekestraat 1\, Genk\, 3600
ATTACH;FMTTYPE=image/jpeg:https://www.socialekalender.be/wp-content/uploads/2022/09/Jef-Ulburghs3.jpg
ORGANIZER;CN="Stebo vzw":MAILTO:frank.maleska@stebo.be
END:VEVENT
END:VCALENDAR