BEGIN:VCALENDAR
VERSION:2.0
PRODID:-//Sociale Kalender - ECPv6.2.9//NONSGML v1.0//EN
CALSCALE:GREGORIAN
METHOD:PUBLISH
X-ORIGINAL-URL:https://www.socialekalender.be
X-WR-CALDESC:Evenementen voor Sociale Kalender
REFRESH-INTERVAL;VALUE=DURATION:PT1H
X-Robots-Tag:noindex
X-PUBLISHED-TTL:PT1H
BEGIN:VTIMEZONE
TZID:Europe/Brussels
BEGIN:DAYLIGHT
TZOFFSETFROM:+0100
TZOFFSETTO:+0200
TZNAME:CEST
DTSTART:20220327T010000
END:DAYLIGHT
BEGIN:STANDARD
TZOFFSETFROM:+0200
TZOFFSETTO:+0100
TZNAME:CET
DTSTART:20221030T010000
END:STANDARD
END:VTIMEZONE
BEGIN:VEVENT
DTSTART;TZID=Europe/Brussels:20220911T190000
DTEND;TZID=Europe/Brussels:20220911T190000
DTSTAMP:20260420T172852
CREATED:20220905T125556Z
LAST-MODIFIED:20220905T125556Z
UID:7445-1662922800-1662922800@www.socialekalender.be
SUMMARY:De nazi-concentratiekampen
DESCRIPTION:Uiteenzetting door Sis Van Eeckhout\, auteur van “Het boek der kampen”. De vader van de spreker werd in 1944 gearresteerd en weggevoerd naar Dachau\, maar hij overleefde. Later bezochten vader en zoon samen alle concentratiekampen. Na de filmvertoning wordt er een tentoonstelling opgezet\, die te bezoeken is op 17\, 18\, 24 en 25 september van 10 tot 18u\, ook in de kerk.
URL:https://www.socialekalender.be/evenement/de-nazi-concentratiekampen/
LOCATION:Kerk van Niel-bij-As\, Hoogstraat\, As\, Limburg\, 3668\, België
ATTACH;FMTTYPE=image/jpeg:https://www.socialekalender.be/wp-content/uploads/2022/09/concentratiekamp.jpg
END:VEVENT
END:VCALENDAR