BEGIN:VCALENDAR
VERSION:2.0
PRODID:-//Sociale Kalender - ECPv6.2.9//NONSGML v1.0//EN
CALSCALE:GREGORIAN
METHOD:PUBLISH
X-WR-CALNAME:Sociale Kalender
X-ORIGINAL-URL:https://www.socialekalender.be
X-WR-CALDESC:Evenementen voor Sociale Kalender
REFRESH-INTERVAL;VALUE=DURATION:PT1H
X-Robots-Tag:noindex
X-PUBLISHED-TTL:PT1H
BEGIN:VTIMEZONE
TZID:Europe/Brussels
BEGIN:DAYLIGHT
TZOFFSETFROM:+0100
TZOFFSETTO:+0200
TZNAME:CEST
DTSTART:20220327T010000
END:DAYLIGHT
BEGIN:STANDARD
TZOFFSETFROM:+0200
TZOFFSETTO:+0100
TZNAME:CET
DTSTART:20221030T010000
END:STANDARD
END:VTIMEZONE
BEGIN:VEVENT
DTSTART;TZID=Europe/Brussels:20220913T200000
DTEND;TZID=Europe/Brussels:20220913T200000
DTSTAMP:20260420T125801
CREATED:20220905T123048Z
LAST-MODIFIED:20220905T123048Z
UID:7424-1663099200-1663099200@www.socialekalender.be
SUMMARY:Duurzaam beleggen (webinar)
DESCRIPTION:De nieuw opgerichte coöperatieve bank NewB organiseert in september eeen aantal webinars\, waaronder deze over “echt duurzaaam beleggen”. Want greenwashing (voorgespiegelde schijnduurzaamheid) is een reëel probleem. Inschrijven via https://pages.newb.coop/nl-be/newb.nars.
URL:https://www.socialekalender.be/evenement/duurzaam-beleggen-webinar/
LOCATION:ONLINE
ATTACH;FMTTYPE=image/png:https://www.socialekalender.be/wp-content/uploads/2022/09/beleggen.png
END:VEVENT
END:VCALENDAR