BEGIN:VCALENDAR
VERSION:2.0
PRODID:-//Sociale Kalender - ECPv6.2.9//NONSGML v1.0//EN
CALSCALE:GREGORIAN
METHOD:PUBLISH
X-WR-CALNAME:Sociale Kalender
X-ORIGINAL-URL:https://www.socialekalender.be
X-WR-CALDESC:Evenementen voor Sociale Kalender
REFRESH-INTERVAL;VALUE=DURATION:PT1H
X-Robots-Tag:noindex
X-PUBLISHED-TTL:PT1H
BEGIN:VTIMEZONE
TZID:Europe/Brussels
BEGIN:DAYLIGHT
TZOFFSETFROM:+0100
TZOFFSETTO:+0200
TZNAME:CEST
DTSTART:20220327T010000
END:DAYLIGHT
BEGIN:STANDARD
TZOFFSETFROM:+0200
TZOFFSETTO:+0100
TZNAME:CET
DTSTART:20221030T010000
END:STANDARD
END:VTIMEZONE
BEGIN:VEVENT
DTSTART;TZID=Europe/Brussels:20220917T100000
DTEND;TZID=Europe/Brussels:20220917T140000
DTSTAMP:20260420T125804
CREATED:20220805T143840Z
LAST-MODIFIED:20220805T143840Z
UID:7351-1663408800-1663423200@www.socialekalender.be
SUMMARY:Geefmarkt
DESCRIPTION:Op deze markt kan iedereen weggeven wat hij niet meer nodig heeft\, en meenemen wat hij kan gebruiken. Je hoeft niets mee te brengen om iets te kunnen meenemen. Wil je veel spullen afleveren\, graag een seintje vooraf. Alles wat op een fiets te vervoeren is\, is welkom: kledij\, speelgoed\, decoratie\, boeken\,… Het moet een gezellig ontmoetingsmoment worden: gratis soep\, koffie en koffiekoeken. Dit is een basisinitiatief vanuit vele verenigingen en burgers\, met steun van het stadsbestuur.
URL:https://www.socialekalender.be/evenement/geefmarkt-3/
LOCATION:Binnenplein Stadhuis Genk\, Stadsplein 1\, Genk\, 3600\, België
ATTACH;FMTTYPE=image/jpeg:https://www.socialekalender.be/wp-content/uploads/2022/08/geefmarkt-genk-1.jpg
END:VEVENT
BEGIN:VEVENT
DTSTART;TZID=Europe/Brussels:20220917T170000
DTEND;TZID=Europe/Brussels:20220917T193000
DTSTAMP:20260420T125804
CREATED:20220905T130758Z
LAST-MODIFIED:20220905T130758Z
UID:7455-1663434000-1663443000@www.socialekalender.be
SUMMARY:Poëzieavond in kunsttentoonstelling
DESCRIPTION:Onder de noemer “Freedom of Expression” stellen tientallen kunstenaars van heel diverse afkomst en achtergrond recent werk tentoon. In dat kader lezen dichters voor uit eigen werk\, met name Lucie Vrebos\, Nerkiz Sahin en Sibel Kaliman. De tentoonstelling loopt van 10 tot 25 september\, alle dagen behalve maandag van 13 tot 17u.
URL:https://www.socialekalender.be/evenement/poezieavond-in-kunsttentoonstelling/
LOCATION:Studio Stad\, TT Wijk Sint Jozefsstraat 10b\, Hasselt\, Limburg\, 3500\, België
ATTACH;FMTTYPE=image/jpeg:https://www.socialekalender.be/wp-content/uploads/2022/09/Martin-Oluwadiran-1.jpg
ORGANIZER;CN="Perspectief vzw":MAILTO:joschreurs54@gmail.com
END:VEVENT
END:VCALENDAR