BEGIN:VCALENDAR
VERSION:2.0
PRODID:-//Sociale Kalender - ECPv6.2.9//NONSGML v1.0//EN
CALSCALE:GREGORIAN
METHOD:PUBLISH
X-ORIGINAL-URL:https://www.socialekalender.be
X-WR-CALDESC:Evenementen voor Sociale Kalender
REFRESH-INTERVAL;VALUE=DURATION:PT1H
X-Robots-Tag:noindex
X-PUBLISHED-TTL:PT1H
BEGIN:VTIMEZONE
TZID:Europe/Brussels
BEGIN:DAYLIGHT
TZOFFSETFROM:+0100
TZOFFSETTO:+0200
TZNAME:CEST
DTSTART:20220327T010000
END:DAYLIGHT
BEGIN:STANDARD
TZOFFSETFROM:+0200
TZOFFSETTO:+0100
TZNAME:CET
DTSTART:20221030T010000
END:STANDARD
END:VTIMEZONE
BEGIN:VEVENT
DTSTART;TZID=Europe/Brussels:20220918T100000
DTEND;TZID=Europe/Brussels:20220918T180000
DTSTAMP:20260420T142526
CREATED:20220820T083459Z
LAST-MODIFIED:20220820T083459Z
UID:7398-1663495200-1663524000@www.socialekalender.be
SUMMARY:Festival van verbinding
DESCRIPTION:Fabriek Ecologique is een burgerinitiatief om de armoede te bestrijden\, o.a. door met de mensen zelf producten aan te maken in workshops. Het verenigingshuis in Winterslag staat tijdens het Festival van de Verbinding\, met activiteiten over heel Vlaanderen\, open voor het publiek. Om 10u is er een brunch\, en om 17u een afsluitritueel met klankmeditatie. In de tussentijd is er een kleine belevingsmarkt. De toegang is gratis\, en ook deelname aan het afsluitritueel. Voor € 15 kan men deelnemen aan een hele reeks workshops.
URL:https://www.socialekalender.be/evenement/festival-van-verbinding/
LOCATION:´t Fabriek\, Evence Coppeelaan 108\, Winterslag-Genk\, Limburg\, 3600\, België
ATTACH;FMTTYPE=image/jpeg:https://www.socialekalender.be/wp-content/uploads/2022/08/do-it-together.jpg
END:VEVENT
BEGIN:VEVENT
DTSTART;TZID=Europe/Brussels:20220918T103000
DTEND;TZID=Europe/Brussels:20220918T180000
DTSTAMP:20260420T142526
CREATED:20220905T124615Z
LAST-MODIFIED:20220905T124615Z
UID:7432-1663497000-1663524000@www.socialekalender.be
SUMMARY:Opendeurdagen Natuurhulpcentrum
DESCRIPTION:Heel veel mensen willen het Natuurhulpcentrum bezoeken. Maar omdat het centrum letterlijk ‘vol’ zit met zieke en gewonde wilde dieren is dat niet altijd mogelijk. Wilde dieren zijn bang van mensen en gekwetste dieren hebben rust nodig om snel te herstellen. \nMaar elk jaar in september (behalve in coronajaar 2020) organiseren we drie opendeurdagen. Dan worden de meest angstige dieren afgeschermd en worden de ergst gekwetste dieren op een niet voor het publiek toegankelijk gedeelte geplaatst. Iedereen mag dan vrij ons centrum bezoeken. Hou er wel rekening mee dat het tijdens zo’n opendeurdag erg druk kan zijn\, tot meer dan 5.000 bezoekers op een dag. De voormiddag is minder druk dan de namiddag. \nDe opendeurdagen vinden plaats op de eerste drie zondagen van september. In 2022 zullen de opendeurdagen plaatsvinden op zondag 4\, 11 en 18 september. Blikvangers zijn momenteel de “oorlogsvluchtelingen” uit Oekraïne: leeuwen\, bruine beren\, caracals en een wolf uit een gebombardeerde zoo. Verder zijn er nog de diverse uilensoorten\, herten\, apen\, papegaaien\, slangen\,… \nMensen die toch liever op een andere datum een bezoekje zouden willen brengen aan het natuurhulpcentrum kunnen dat in groep.
URL:https://www.socialekalender.be/evenement/opendeurdagen-natuurhulpcentrum-2/
LOCATION:Natuurhulpcentrum\, Industrieweg 2051\, OPGLABBEEK-OUDSBERGEN\, Limburg\, 3660\, België
ATTACH;FMTTYPE=image/jpeg:https://www.socialekalender.be/wp-content/uploads/2022/09/Natuurhulpcentrum-1.jpg
END:VEVENT
BEGIN:VEVENT
DTSTART;TZID=Europe/Brussels:20220918T120000
DTEND;TZID=Europe/Brussels:20220918T180000
DTSTAMP:20260420T142526
CREATED:20220710T142401Z
LAST-MODIFIED:20220710T142401Z
UID:7252-1663502400-1663524000@www.socialekalender.be
SUMMARY:Culinair wereldfestival Amuse
DESCRIPTION:Parkfestival in het teken van de fair trade. Heel wat Hasseltse organisaties staan klaar om je te laten proeven van hun culinaire amuses. Ze verkopen hun specialiteiten aan 2\,5 euro per hapje (amuse). De opbrengst van de verkoop gaat volledig naar hun project in het Zuiden. Van wevers in Guatemala tot landbouwers in Mali\, en van schoolkinderen in Rwanda tot gezondheidswerkers in Kenia. Sla tijdens het proeven een praatje met de kramers en leer zo de warme en solidaire projecten beter kennen. Ook enkele Hasseltse chefs tonen hun kunsten met faire en lokale ingrediënten. Dj’s zorgen voor de nodige sfeer met wereldmuziek\, net zoals de straatmuzikanten die her en der opduiken. Wie de beentjes wil losgooien\, kan deelnemen aan verschillende dansworkshops. Voor de allerkleinsten is er vertier en plezier met begeleide workshops\, (volks)spelen en muziektheater.
URL:https://www.socialekalender.be/evenement/culinair-wereldfestival-amuse-3/
LOCATION:Stedelijk Domein Kiewit\, Putvennestraat 108\, Kiewit - Hasselt\, 3500\, België
ATTACH;FMTTYPE=image/jpeg:https://www.socialekalender.be/wp-content/uploads/2021/09/amuse.jpg
END:VEVENT
END:VCALENDAR