BEGIN:VCALENDAR
VERSION:2.0
PRODID:-//Sociale Kalender - ECPv6.2.9//NONSGML v1.0//EN
CALSCALE:GREGORIAN
METHOD:PUBLISH
X-ORIGINAL-URL:https://www.socialekalender.be
X-WR-CALDESC:Evenementen voor Sociale Kalender
REFRESH-INTERVAL;VALUE=DURATION:PT1H
X-Robots-Tag:noindex
X-PUBLISHED-TTL:PT1H
BEGIN:VTIMEZONE
TZID:Europe/Brussels
BEGIN:DAYLIGHT
TZOFFSETFROM:+0100
TZOFFSETTO:+0200
TZNAME:CEST
DTSTART:20220327T010000
END:DAYLIGHT
BEGIN:STANDARD
TZOFFSETFROM:+0200
TZOFFSETTO:+0100
TZNAME:CET
DTSTART:20221030T010000
END:STANDARD
END:VTIMEZONE
BEGIN:VEVENT
DTSTART;TZID=Europe/Brussels:20220922T200000
DTEND;TZID=Europe/Brussels:20220922T200000
DTSTAMP:20260420T142526
CREATED:20220905T130119Z
LAST-MODIFIED:20220905T130119Z
UID:7449-1663876800-1663876800@www.socialekalender.be
SUMMARY:Eric Corijn over de Vlaamse beweging
DESCRIPTION:De cultuurfilosoof Eric Corijn\, prof. em. aan de VUB\, stelt zijn boek voor dat als titel draagt: “Vlaanderen ontwaak! Tegen de grondstroom”. Hij stelt zich de vraag hoe het komt dat progressieve ideeën moeilijk ingang vinden in Vlaanderen\, terwijl rechtse en radicaal-rechtse opvattingen er kunnen manoeuvreren naar een bijna hegemonistische positie. Hij roept op tot nieuwe sociale praktijken en nieuwe politieke accenten.
URL:https://www.socialekalender.be/evenement/eric-corijn-over-de-vlaamse-beweging/
LOCATION:Vrijzinnig Punt en Boekhandel Grim
ATTACH;FMTTYPE=image/jpeg:https://www.socialekalender.be/wp-content/uploads/2022/09/Eric-Corijn2.jpg
END:VEVENT
END:VCALENDAR