BEGIN:VCALENDAR
VERSION:2.0
PRODID:-//Sociale Kalender - ECPv6.2.9//NONSGML v1.0//EN
CALSCALE:GREGORIAN
METHOD:PUBLISH
X-WR-CALNAME:Sociale Kalender
X-ORIGINAL-URL:https://www.socialekalender.be
X-WR-CALDESC:Evenementen voor Sociale Kalender
REFRESH-INTERVAL;VALUE=DURATION:PT1H
X-Robots-Tag:noindex
X-PUBLISHED-TTL:PT1H
BEGIN:VTIMEZONE
TZID:Europe/Brussels
BEGIN:DAYLIGHT
TZOFFSETFROM:+0100
TZOFFSETTO:+0200
TZNAME:CEST
DTSTART:20220327T010000
END:DAYLIGHT
BEGIN:STANDARD
TZOFFSETFROM:+0200
TZOFFSETTO:+0100
TZNAME:CET
DTSTART:20221030T010000
END:STANDARD
END:VTIMEZONE
BEGIN:VEVENT
DTSTART;TZID=Europe/Brussels:20220923T200000
DTEND;TZID=Europe/Brussels:20220923T220000
DTSTAMP:20260420T125801
CREATED:20220905T125138Z
LAST-MODIFIED:20220905T125138Z
UID:7438-1663963200-1663970400@www.socialekalender.be
SUMMARY:Van weerstand tot concentratiekamp (docufilm)
DESCRIPTION:Deze docufilm\, gespeeld door mensen van As\, toont enkele aspecten van hetgeen onze voorouders meemaakten tijdens de Tweede Wereldoorlog: van beperkingen opgelegd door de bezetter tot een klimaat van verklikkingen en de wegvoeringen naar concentratiekampen. Een initiatief van Irma Scheepers. Leon Geets van de video- en filmclub Genk zorgde voor de regie. Trailer: https://www.youtube.com/watch?v=RuDirMsT56Y
URL:https://www.socialekalender.be/evenement/van-weerstand-tot-concentratiekamp-docufilm/
LOCATION:Kerk van Niel-bij-As\, Hoogstraat\, As\, Limburg\, 3668\, België
ATTACH;FMTTYPE=image/jpeg:https://www.socialekalender.be/wp-content/uploads/2022/09/film-weerstand.jpg
END:VEVENT
END:VCALENDAR