BEGIN:VCALENDAR
VERSION:2.0
PRODID:-//Sociale Kalender - ECPv6.2.9//NONSGML v1.0//EN
CALSCALE:GREGORIAN
METHOD:PUBLISH
X-WR-CALNAME:Sociale Kalender
X-ORIGINAL-URL:https://www.socialekalender.be
X-WR-CALDESC:Evenementen voor Sociale Kalender
REFRESH-INTERVAL;VALUE=DURATION:PT1H
X-Robots-Tag:noindex
X-PUBLISHED-TTL:PT1H
BEGIN:VTIMEZONE
TZID:Europe/Brussels
BEGIN:DAYLIGHT
TZOFFSETFROM:+0100
TZOFFSETTO:+0200
TZNAME:CEST
DTSTART:20220327T010000
END:DAYLIGHT
BEGIN:STANDARD
TZOFFSETFROM:+0200
TZOFFSETTO:+0100
TZNAME:CET
DTSTART:20221030T010000
END:STANDARD
END:VTIMEZONE
BEGIN:VEVENT
DTSTART;TZID=Europe/Brussels:20220926T110000
DTEND;TZID=Europe/Brussels:20220926T120000
DTSTAMP:20260420T142536
CREATED:20220801T134104Z
LAST-MODIFIED:20220801T134104Z
UID:7331-1664190000-1664193600@www.socialekalender.be
SUMMARY:De klimaattop in Egypte (webinar)
DESCRIPTION:De 27e editie van de zogenoemde “Conference of the Parties”\, kortweg COP vindt plaats in de Egyptische badplaats Sharm El-Sheikh. Volgens de Egyptische minister van Klimaat Yasmine Fouad moet dit “echt een Afrikaanse COP” worden. Onder meer de financiering van het tegengaan van klimaatverandering moet er een belangrijk thema zijn. Overigens zal de top worden voorgezeten door haar mannelijke collega van Buitenlandse Zaken Sameh Shoukty. De voorbije top van de G7\, de zeven rijkste landen\, moest volgens de Duitse voorzitter Scholtz de klimaatdoelstellingen aanscherpen in voorbereiding op de Klimaattop. Althans dat zei hij voor de Russische invasie in Oekraïne. Dat is er helemaal niet van gekomen. In de plaats daarvan heeft de G7 de deur opengezet voor tijdelijke “door de overheid gesteunde investeringen in de gassector”. Meer over G7 en klimaat. Het verhaal wordt gebracht door Peter Wittock\, de leider van de Belgische delegatie. Hij is diensthoofd Klimaatverandering bij de Federale Overheidsdienst Gezondheid en volgt de klimaatonderhandelingen sinds 2003. Na inschrijving krijgt men een link toegestuurd\, ten laatste op 25 september. Wachtkamer vanaf 10.45u.
URL:https://www.socialekalender.be/evenement/de-klimaattop-in-egypte-webinar/
LOCATION:ONLINE
ATTACH;FMTTYPE=image/png:https://www.socialekalender.be/wp-content/uploads/2022/08/Peter-Wittoeck.png
END:VEVENT
BEGIN:VEVENT
DTSTART;TZID=Europe/Brussels:20220926T193000
DTEND;TZID=Europe/Brussels:20220926T193000
DTSTAMP:20260420T142536
CREATED:20220629T151615Z
LAST-MODIFIED:20220629T151615Z
UID:7198-1664220600-1664220600@www.socialekalender.be
SUMMARY:Boeddhistische kunst en meditatie
DESCRIPTION:Johan Jacques toont een powerpoint over boeddhistische kunst. Vooraf en achteraf gaan we samen in boeddhistische zitmeditatie.
URL:https://www.socialekalender.be/evenement/boeddhistische-kunst-en-meditatie/
LOCATION:kerk van Godsheide\, Kiezelstraat 132\, Hasselt\, Limburg\, 3500\, België
ATTACH;FMTTYPE=image/jpeg:https://www.socialekalender.be/wp-content/uploads/2022/06/Johan-Jacques.jpg
END:VEVENT
END:VCALENDAR