BEGIN:VCALENDAR
VERSION:2.0
PRODID:-//Sociale Kalender - ECPv6.2.9//NONSGML v1.0//EN
CALSCALE:GREGORIAN
METHOD:PUBLISH
X-ORIGINAL-URL:https://www.socialekalender.be
X-WR-CALDESC:Evenementen voor Sociale Kalender
REFRESH-INTERVAL;VALUE=DURATION:PT1H
X-Robots-Tag:noindex
X-PUBLISHED-TTL:PT1H
BEGIN:VTIMEZONE
TZID:Europe/Brussels
BEGIN:DAYLIGHT
TZOFFSETFROM:+0100
TZOFFSETTO:+0200
TZNAME:CEST
DTSTART:20220327T010000
END:DAYLIGHT
BEGIN:STANDARD
TZOFFSETFROM:+0200
TZOFFSETTO:+0100
TZNAME:CET
DTSTART:20221030T010000
END:STANDARD
END:VTIMEZONE
BEGIN:VEVENT
DTSTART;TZID=Europe/Brussels:20220928T193000
DTEND;TZID=Europe/Brussels:20220928T213000
DTSTAMP:20260420T142527
CREATED:20220915T142728Z
LAST-MODIFIED:20220915T142728Z
UID:7485-1664393400-1664400600@www.socialekalender.be
SUMMARY:Boekvoorstelling: ik weiger te haten
DESCRIPTION:Geert Vervaele\, vrijwillliger bij Pax Christi\, begon een nota over antisemitisme vandaag en hoe dit vermengd wordt met kritiek op de staat Israël. Het resulteerde in een boek met een brede waaier aan elementen. Zo komt hij tot een analyse van de mechanismen achter antisemitisme. Tijdens deze avond gaat hij hierover in gesprek met jongeren van Youth4Palestine. Op het einde van de avond is er een proeverij van Palestijnse hapjes (in de prijs inbegrepen). Een gezamenlijk initiatief van Palestina Solidariteit\, Pax Christi Limburg en Broederlijk Delen Kermt.
URL:https://www.socialekalender.be/evenement/boekvoorstelling-ik-weiger-te-haten/
LOCATION:Zaal Kermeta\, Diestersteenweg 204\, Kermt-Hasselt\, 3510
ATTACH;FMTTYPE=image/jpeg:https://www.socialekalender.be/wp-content/uploads/2022/09/Geert-Vervaele-1.jpg
END:VEVENT
END:VCALENDAR