BEGIN:VCALENDAR
VERSION:2.0
PRODID:-//Sociale Kalender - ECPv6.2.9//NONSGML v1.0//EN
CALSCALE:GREGORIAN
METHOD:PUBLISH
X-WR-CALNAME:Sociale Kalender
X-ORIGINAL-URL:https://www.socialekalender.be
X-WR-CALDESC:Evenementen voor Sociale Kalender
REFRESH-INTERVAL;VALUE=DURATION:PT1H
X-Robots-Tag:noindex
X-PUBLISHED-TTL:PT1H
BEGIN:VTIMEZONE
TZID:Europe/Brussels
BEGIN:DAYLIGHT
TZOFFSETFROM:+0100
TZOFFSETTO:+0200
TZNAME:CEST
DTSTART:20220327T010000
END:DAYLIGHT
BEGIN:STANDARD
TZOFFSETFROM:+0200
TZOFFSETTO:+0100
TZNAME:CET
DTSTART:20221030T010000
END:STANDARD
END:VTIMEZONE
BEGIN:VEVENT
DTSTART;TZID=Europe/Brussels:20220929T140000
DTEND;TZID=Europe/Brussels:20220929T140000
DTSTAMP:20260420T125803
CREATED:20220801T132534Z
LAST-MODIFIED:20220801T132534Z
UID:7315-1664460000-1664460000@www.socialekalender.be
SUMMARY:Dealer (film)
DESCRIPTION:Percevals langspeeldebuut gaat over een 14-jarige drugsdealer\, Johnny (Sverre Rous)\, die droomt van een ander leven\, ver weg van de straat en de jeugdinstelling. In afwachting daarvan maakt hij deel uit van een bende\, die geleid wordt door de licht ontvlambare Luca (Bart Hollanders). Bijkomend vraagt zijn moeder (Veerle Baetens) meer zorg dan ze kan geven. Johnny’s jonge leven staat dus behoorlijk onder hoogspanning\, wanneer hij een bekende acteur ontmoet. Anthony (Ben Segers) wordt zijn vaste klant en gaandeweg ontstaat er een band tussen de twee\, maar is die sterk genoeg om elkaars leven écht te veranderen? De jonge acteur Sverre Rous zet als nieuwkomer een markante prestatie neer\, terwijl Ben Segers na vooral grappige rollen een heel andere kant van zijn kunnen laat zien. Een mokerslag. Jeroen Perceval\, bij het brede publiek vooral bekend als acteur in o.a D’Ardennen en Rundskop\, neemt voor het eerst plaats in de regiestoel. De pandemie zorgde tot tweemaal toe voor een onderbreking van de opnames\, maar Dealer ging uiteindelijk in première op het Filmfestival van Gent. Met negen Ensors\, waaronder die voor Beste Film en Beste Regie\, werd Dealer de grote winnaar van de Vlaamse filmprijzen in 2022.  Een rauw en diep ontroerend straatdrama. Deze film wordt vertoond onder de noemer Cinématinee en maakt deel uit van het cultuuraanbod voor senioren. Voor een zitje betaal je 5 euro\, inclusief een drankje.
URL:https://www.socialekalender.be/evenement/dealer-film/
LOCATION:CC Maasmechelen\, Koninginnelaan 42\, Maasmechelen\, 3630\, België
ATTACH;FMTTYPE=image/jpeg:https://www.socialekalender.be/wp-content/uploads/2022/08/dealer.jpg
END:VEVENT
END:VCALENDAR