BEGIN:VCALENDAR
VERSION:2.0
PRODID:-//Sociale Kalender - ECPv6.2.9//NONSGML v1.0//EN
CALSCALE:GREGORIAN
METHOD:PUBLISH
X-ORIGINAL-URL:https://www.socialekalender.be
X-WR-CALDESC:Evenementen voor Sociale Kalender
REFRESH-INTERVAL;VALUE=DURATION:PT1H
X-Robots-Tag:noindex
X-PUBLISHED-TTL:PT1H
BEGIN:VTIMEZONE
TZID:Europe/Brussels
BEGIN:DAYLIGHT
TZOFFSETFROM:+0100
TZOFFSETTO:+0200
TZNAME:CEST
DTSTART:20220327T010000
END:DAYLIGHT
BEGIN:STANDARD
TZOFFSETFROM:+0200
TZOFFSETTO:+0100
TZNAME:CET
DTSTART:20221030T010000
END:STANDARD
END:VTIMEZONE
BEGIN:VEVENT
DTSTART;TZID=Europe/Brussels:20221002T130000
DTEND;TZID=Europe/Brussels:20221002T170000
DTSTAMP:20260420T142531
CREATED:20220918T125656Z
LAST-MODIFIED:20220918T125656Z
UID:7490-1664715600-1664730000@www.socialekalender.be
SUMMARY:Diner Parlant van SKEPP
DESCRIPTION:De kritisch-wetenschappelijke organisatie SKEPP nodigt u uit op haar zevende “diner parlant” met 5 gangen en 5 presentaties. Volledig programma met inschrijvingsmodaliteit via https://skepp.be/sites/default/files/Diner%20parlant%207_1.pdf
URL:https://www.socialekalender.be/evenement/diner-parlant-van-skepp/
LOCATION:Vrijzinnig Punt en Boekhandel Grim
ATTACH;FMTTYPE=image/jpeg:https://www.socialekalender.be/wp-content/uploads/2022/09/SKEPP1.jpeg
END:VEVENT
END:VCALENDAR