BEGIN:VCALENDAR
VERSION:2.0
PRODID:-//Sociale Kalender - ECPv6.2.9//NONSGML v1.0//EN
CALSCALE:GREGORIAN
METHOD:PUBLISH
X-WR-CALNAME:Sociale Kalender
X-ORIGINAL-URL:https://www.socialekalender.be
X-WR-CALDESC:Evenementen voor Sociale Kalender
REFRESH-INTERVAL;VALUE=DURATION:PT1H
X-Robots-Tag:noindex
X-PUBLISHED-TTL:PT1H
BEGIN:VTIMEZONE
TZID:Europe/Brussels
BEGIN:DAYLIGHT
TZOFFSETFROM:+0100
TZOFFSETTO:+0200
TZNAME:CEST
DTSTART:20220327T010000
END:DAYLIGHT
BEGIN:STANDARD
TZOFFSETFROM:+0200
TZOFFSETTO:+0100
TZNAME:CET
DTSTART:20221030T010000
END:STANDARD
END:VTIMEZONE
BEGIN:VEVENT
DTSTART;TZID=Europe/Brussels:20221006T180000
DTEND;TZID=Europe/Brussels:20221006T180000
DTSTAMP:20260420T125808
CREATED:20220918T130826Z
LAST-MODIFIED:20220918T130826Z
UID:7497-1665079200-1665079200@www.socialekalender.be
SUMMARY:Netwerkmoment rond Haspengouws erfgoed
DESCRIPTION:De Erfgoedcel Haspengouw nodigt alle verenigingen die zich inzetten voor het cultureel erfgoed in Haspengouw uit voor een gezellige avond van ontmoeting en uitwisseling. We trakteren op broodjes\, drank en een dessert. Inschrijven kan via deze link: Inschrijven. Voorafgaand ben je van harte welkom voor de demonstratie van het materiaal uit de uitleendienst Erfgoed van 14.00-17.00 uur in de Sint-Odulphuskerk in Borgloon.
URL:https://www.socialekalender.be/evenement/netwerkmoment-rond-haspengouws-erfgoed/
LOCATION:Fabrik Borgloon\, Stationsplein\, Borgloon\, Limburg\, 3840\, België
ATTACH;FMTTYPE=image/jpeg:https://www.socialekalender.be/wp-content/uploads/2022/09/erfgoed.jpg
END:VEVENT
END:VCALENDAR