BEGIN:VCALENDAR
VERSION:2.0
PRODID:-//Sociale Kalender - ECPv6.2.9//NONSGML v1.0//EN
CALSCALE:GREGORIAN
METHOD:PUBLISH
X-WR-CALNAME:Sociale Kalender
X-ORIGINAL-URL:https://www.socialekalender.be
X-WR-CALDESC:Evenementen voor Sociale Kalender
REFRESH-INTERVAL;VALUE=DURATION:PT1H
X-Robots-Tag:noindex
X-PUBLISHED-TTL:PT1H
BEGIN:VTIMEZONE
TZID:Europe/Brussels
BEGIN:DAYLIGHT
TZOFFSETFROM:+0100
TZOFFSETTO:+0200
TZNAME:CEST
DTSTART:20220327T010000
END:DAYLIGHT
BEGIN:STANDARD
TZOFFSETFROM:+0200
TZOFFSETTO:+0100
TZNAME:CET
DTSTART:20221030T010000
END:STANDARD
END:VTIMEZONE
BEGIN:VEVENT
DTSTART;TZID=Europe/Brussels:20221011T193000
DTEND;TZID=Europe/Brussels:20221011T220000
DTSTAMP:20260420T125804
CREATED:20220713T121609Z
LAST-MODIFIED:20220713T121609Z
UID:7272-1665516600-1665525600@www.socialekalender.be
SUMMARY:Dialectavond met Geert Vandeweerdt\, wereldreiziger per fiets
DESCRIPTION:Geert\, de zoon van Jef Vandeweerdt\, heeft al 54 landen gezien en keert elke keer naar zijn heimat in de Grotstraat van Niel terug. Drie keer nam hij een jaar loopbaanonderbreking\, spande zijn karretje achter zijn fiets en trok de wereld in: Europa\, Centraal- en Zuid-Amerika\, Azië en de Atlantische oceaan. Onderweg leerde hij zijn Argentijnse vrouw Carolina kennen. Over zijn legendarische tocht van Bangkok naar Tibet gaat hij het zeker hebben. Maar ook over aardbevingen\, overvallen\, uitdagingen\, het lot … Zo heeft hij op het einde de oceaan overgezeild van Guadeloupe naar Portugal. Hij brengt filmmateriaal en een powerpoint mee\, en geeft commentaar in het Nieler dialect.
URL:https://www.socialekalender.be/evenement/dialectavond-met-geert-vandeweerdt-wereldreiziger-per-fiets/
LOCATION:Buurthuis Statiewijk\, Nielerlaan 106 (vlakbij Station)\, As\, 3668
ATTACH;FMTTYPE=image/jpeg:https://www.socialekalender.be/wp-content/uploads/2022/07/Geert-Vandeweerdt.jpg
END:VEVENT
END:VCALENDAR