BEGIN:VCALENDAR
VERSION:2.0
PRODID:-//Sociale Kalender - ECPv6.2.9//NONSGML v1.0//EN
CALSCALE:GREGORIAN
METHOD:PUBLISH
X-ORIGINAL-URL:https://www.socialekalender.be
X-WR-CALDESC:Evenementen voor Sociale Kalender
REFRESH-INTERVAL;VALUE=DURATION:PT1H
X-Robots-Tag:noindex
X-PUBLISHED-TTL:PT1H
BEGIN:VTIMEZONE
TZID:Europe/Brussels
BEGIN:DAYLIGHT
TZOFFSETFROM:+0100
TZOFFSETTO:+0200
TZNAME:CEST
DTSTART:20220327T010000
END:DAYLIGHT
BEGIN:STANDARD
TZOFFSETFROM:+0200
TZOFFSETTO:+0100
TZNAME:CET
DTSTART:20221030T010000
END:STANDARD
END:VTIMEZONE
BEGIN:VEVENT
DTSTART;TZID=Europe/Brussels:20221012T190000
DTEND;TZID=Europe/Brussels:20221012T190000
DTSTAMP:20260420T142529
CREATED:20220928T145718Z
LAST-MODIFIED:20220928T145718Z
UID:7552-1665601200-1665601200@www.socialekalender.be
SUMMARY:170.000
DESCRIPTION:Theatervoorstelling van armoedevereniging Ons Centrum. Het participatieve toneelstuk neemt je mee in de leefwereld van de sociale huurders en kandidaat-huurders. Een blik op de woonproblematiek en de sociale huisvestingssector vanuit ervaringsdeskundigen. Na de vertoning presenteren Saamo Samenlevingsopbouw en de mensen van Ons Centrum hun aanbevelingen aan de nieuwe Limburgse Huisvestingsmaatschappij. Gelieve in te schrijven via dit formulier: https://forms.office.com/r/LF01zqf8dz. Een trailer van de theatervoorstelling “170.000” vindt u hier.
URL:https://www.socialekalender.be/evenement/170-000/
LOCATION:CC LEOPOLDSBURG\, Kastanjedreef 1\, Leopoldsbur\, Limburg\, 3970\, België
ATTACH;FMTTYPE=image/jpeg:https://www.socialekalender.be/wp-content/uploads/2022/09/ons-centrum.jpg
END:VEVENT
BEGIN:VEVENT
DTSTART;TZID=Europe/Brussels:20221012T193000
DTEND;TZID=Europe/Brussels:20221012T220000
DTSTAMP:20260420T142529
CREATED:20220910T091142Z
LAST-MODIFIED:20220910T091142Z
UID:7476-1665603000-1665612000@www.socialekalender.be
SUMMARY:Ruimte en mobiliteit in Genk\, As en Oudsbergen
DESCRIPTION:Samen met bewuste bewoners ontwikkelen we een ‘educatieve fietstocht’ langs duurzame ingrepen op vlak van ruimte en mobiliteit in Genk\, As en Oudsbergen. Dat gebeurt aan de hand van drie voorbereidende vergaderingen in het Heempark. Eens de fietstocht klaar is\, dan kan die door een groep onder begeleiding gefietst worden. \nIn een eerste sessie leert Willy Miermans ons kijken naar de inrichting van onze omgeving: wat betekent ‘duurzame mobiliteit’ en hoe kun je als stad/gemeente hierop inzetten? Welke ingrepen in de ruimtelijke ordening zijn goed gevonden en uitgevoerd? In een tweede sessie (op 19 november) bekijken we de dichtheid en thema’s van de gemeentes Genk\, As en Oudsbergen van dichterbij. We leren de verschillen kennen en zoeken naar gemeenschappelijke uitdagingen. We leren vooral van elkaar. Tussendoor maken we een afspraak om in elke gemeente op verkenning te gaan: hoe ziet onze gemeente eruit? Welke plannen liggen op tafel en welke ingrepen zijn al uitgevoerd? Tijdens de derde sessie (op 16 november) tekenen we onze fietstocht uit op kaart: welke plaatsen moeten we zeker passeren en welke fietsroute verbindt die punten op een veilige manier? Je hoeft geen voorkennis over ruimtelijke ordening of mobiliteit te hebben om aan deze vorming deel te nemen. Bereidheid om met een open blik naar jouw omgeving te kijken is wel van belang. En het helpt als je zelf graag fietst. Vraag gerust meer informatie via mieke.dury@avansa-limburg.be of 0476/88 01 30. Zie ook de kalender op www.avansa-limburg.be.
URL:https://www.socialekalender.be/evenement/ruimte-en-mobiliteit-in-genk-as-en-oudsbergen/
LOCATION:Heempark\, Hoogzij 7\, Genk\, 3600\, België
ATTACH;FMTTYPE=image/jpeg:https://www.socialekalender.be/wp-content/uploads/2022/09/fietsersbrug.jpg
END:VEVENT
END:VCALENDAR