BEGIN:VCALENDAR
VERSION:2.0
PRODID:-//Sociale Kalender - ECPv6.2.9//NONSGML v1.0//EN
CALSCALE:GREGORIAN
METHOD:PUBLISH
X-WR-CALNAME:Sociale Kalender
X-ORIGINAL-URL:https://www.socialekalender.be
X-WR-CALDESC:Evenementen voor Sociale Kalender
REFRESH-INTERVAL;VALUE=DURATION:PT1H
X-Robots-Tag:noindex
X-PUBLISHED-TTL:PT1H
BEGIN:VTIMEZONE
TZID:Europe/Brussels
BEGIN:DAYLIGHT
TZOFFSETFROM:+0100
TZOFFSETTO:+0200
TZNAME:CEST
DTSTART:20220327T010000
END:DAYLIGHT
BEGIN:STANDARD
TZOFFSETFROM:+0200
TZOFFSETTO:+0100
TZNAME:CET
DTSTART:20221030T010000
END:STANDARD
END:VTIMEZONE
BEGIN:VEVENT
DTSTART;TZID=Europe/Brussels:20221015T160000
DTEND;TZID=Europe/Brussels:20221015T160000
DTSTAMP:20260420T125804
CREATED:20220713T124922Z
LAST-MODIFIED:20220713T124922Z
UID:7296-1665849600-1665849600@www.socialekalender.be
SUMMARY:Ecopolis
DESCRIPTION:Deze boekenbeurs blijft de ontmoetingsplek voor wie begaan is met een sociale en duurzame toekomst. Met voordrachten\, dialoogtafels\, documentaires enz.. Dit jaar brengt Ecopolis verhalen die een inclusieve en duurzame toekomst verbeelden voor een nieuwe wereld. Met gastsprekers uit binnen- en buitenland zoals Roman Krznaric\, Dalilla Hermans\, Bayo Okomolafe enz. Er is simultane vertaling voorzien. Meer en actuele informatie op www.ecopolis.be.
URL:https://www.socialekalender.be/evenement/ecopolis-2/
LOCATION:Ancienne Belgique\, Anspachlaan 10\, Brussel\, Brussels Gewest\, 1000\, België
ATTACH;FMTTYPE=image/png:https://www.socialekalender.be/wp-content/uploads/2022/07/ecopolis.png
END:VEVENT
BEGIN:VEVENT
DTSTART;TZID=Europe/Brussels:20221015T160000
DTEND;TZID=Europe/Brussels:20221015T210000
DTSTAMP:20260420T125804
CREATED:20221001T154013Z
LAST-MODIFIED:20221001T154013Z
UID:7559-1665849600-1665867600@www.socialekalender.be
SUMMARY:Palestijnse maaltijd
DESCRIPTION:Avondvullend programma als benefiet voor Palestina. De maaltijd bestaat uit een open buffet\, 2 drankjes en een dessert. Optreden van de dansgroep Watan Dabke\, toespraken door de Algerijnse en Palestijnse consul\, getuigenissen van Palestijnse vluchtelingen. Voorts nog kinderanimatie\, henna\, veiling\,… Organisatie: Genks Comité Vluchtelingen\, AIF\, Palestinacomité\, Gastvrij Limburg
URL:https://www.socialekalender.be/evenement/palestijnse-maaltijd/
LOCATION:AFIE\, Vennestraat 98\, Genk\, Limpburg\, 3600\, België
ATTACH;FMTTYPE=image/jpeg:https://www.socialekalender.be/wp-content/uploads/2022/10/Palestijns24066.jpg
END:VEVENT
BEGIN:VEVENT
DTSTART;TZID=Europe/Brussels:20221015T190000
DTEND;TZID=Europe/Brussels:20221015T190000
DTSTAMP:20260420T125804
CREATED:20220801T132050Z
LAST-MODIFIED:20220801T132050Z
UID:7311-1665860400-1665860400@www.socialekalender.be
SUMMARY:Charbonnage (opening tentoonstelling)
DESCRIPTION:Vijftien jaar na de oprichting van mijnmaatschappij ‘S.A. des Charbonnages Limbourg-Meuse’ in 1907 werden op 7 september 1922 de eerste kolen opgehaald in de mijn van Eisden. Vandaag\, honderd jaar later\, wenkt voor ‘de charbonnage’ een vergeten verleden. De mijn in Eisden ging 35 jaar geleden dicht\, waardoor enkel vijftigplussers er nog levendige herinneringen aan hebben. Een uitstekende reden voor Tuinwijk2020 en de Stichting Erfgoed Eisden (SEE) om dit momentum aan te grijpen en 100 jaar Charbonnage voor het voetlicht te brengen met o.m. een prestigieus fotoboek en een groots opgezette expositie in het cultuurcentrum. Archivaris Jan Kohlbacher\, tentoonstellingsmaker Marc Milissen en hun team putten uit het unieke en omvangrijke beeldarchief van de SEE om de bezoekers een beklijvend beeld te geven van de 64 jaar dat de mijn operationeel was in al zijn dimensies (boven- en ondergronds\, het kanaal en de terrils). Ook de periode van vijftien jaar opbouw tussen 1907 en 1922 en de herbestemming van de mijnsite na de sluiting in 1987 komen aan bod. De tentoonstelling loopt tot en met 20 december en is tijdens de weekdagen te bezichtigen tussen 10 en 12 uur en tussen 13 en 17u\, en op zaterdag van 9 tot 12 uur. Gesloten op zon- en feestdagen.
URL:https://www.socialekalender.be/evenement/charbonnage-opening-tentoonstelling/
LOCATION:CC Maasmechelen\, Koninginnelaan 42\, Maasmechelen\, 3630\, België
ATTACH;FMTTYPE=image/jpeg:https://www.socialekalender.be/wp-content/uploads/2022/08/mijnwerkers.jpg
END:VEVENT
END:VCALENDAR