BEGIN:VCALENDAR
VERSION:2.0
PRODID:-//Sociale Kalender - ECPv6.2.9//NONSGML v1.0//EN
CALSCALE:GREGORIAN
METHOD:PUBLISH
X-ORIGINAL-URL:https://www.socialekalender.be
X-WR-CALDESC:Evenementen voor Sociale Kalender
REFRESH-INTERVAL;VALUE=DURATION:PT1H
X-Robots-Tag:noindex
X-PUBLISHED-TTL:PT1H
BEGIN:VTIMEZONE
TZID:Europe/Brussels
BEGIN:DAYLIGHT
TZOFFSETFROM:+0100
TZOFFSETTO:+0200
TZNAME:CEST
DTSTART:20220327T010000
END:DAYLIGHT
BEGIN:STANDARD
TZOFFSETFROM:+0200
TZOFFSETTO:+0100
TZNAME:CET
DTSTART:20221030T010000
END:STANDARD
END:VTIMEZONE
BEGIN:VEVENT
DTSTART;TZID=Europe/Brussels:20221018T193000
DTEND;TZID=Europe/Brussels:20221018T193000
DTSTAMP:20260420T142530
CREATED:20220921T140328Z
LAST-MODIFIED:20220921T140328Z
UID:7503-1666121400-1666121400@www.socialekalender.be
SUMMARY:Diversiteitstafel over armoede
DESCRIPTION:Een dag na 17 oktober\, de Werelddag van het Verzet tegen de Armoede\, zitten we samen om terug- en vooruit te kijken. De gevolgen van de energiecrisis komen zeker aan bod\, en ook de stemming in het Europees Parlement over de minimumlonen. Iedereen kan zijn bekommernissen en voorstellen op tafel gooien.
URL:https://www.socialekalender.be/evenement/diversiteitstafel-over-armoede/
LOCATION:Regenbooghuis\, Meldertstraat 38\, Hasselt\, 3500\, België
ATTACH;FMTTYPE=image/jpeg:https://www.socialekalender.be/wp-content/uploads/2022/09/Armoede-lege-portefeuille.jpg
END:VEVENT
END:VCALENDAR