BEGIN:VCALENDAR
VERSION:2.0
PRODID:-//Sociale Kalender - ECPv6.2.9//NONSGML v1.0//EN
CALSCALE:GREGORIAN
METHOD:PUBLISH
X-WR-CALNAME:Sociale Kalender
X-ORIGINAL-URL:https://www.socialekalender.be
X-WR-CALDESC:Evenementen voor Sociale Kalender
REFRESH-INTERVAL;VALUE=DURATION:PT1H
X-Robots-Tag:noindex
X-PUBLISHED-TTL:PT1H
BEGIN:VTIMEZONE
TZID:Europe/Brussels
BEGIN:DAYLIGHT
TZOFFSETFROM:+0100
TZOFFSETTO:+0200
TZNAME:CEST
DTSTART:20220327T010000
END:DAYLIGHT
BEGIN:STANDARD
TZOFFSETFROM:+0200
TZOFFSETTO:+0100
TZNAME:CET
DTSTART:20221030T010000
END:STANDARD
END:VTIMEZONE
BEGIN:VEVENT
DTSTART;TZID=Europe/Brussels:20221025T190000
DTEND;TZID=Europe/Brussels:20221025T210000
DTSTAMP:20260420T125805
CREATED:20220910T091645Z
LAST-MODIFIED:20220910T091645Z
UID:7481-1666724400-1666731600@www.socialekalender.be
SUMMARY:Jos Ramaekers over stikstof en biodiversiteitsverlies
DESCRIPTION:Vlaanderen heeft een stikstofoverschot: meer dan 80 % van onze (vaak Europees beschermde) natuur lijdt eronder. Vooral intensieve veeteelt is de oorzaak\, naast de uitstoot van industrie\, verkeer en huishoudens. De stikstofuitstoot heeft zware gevolgen voor de biodiversiteit: graslanden verarmen\, bramen en netels overwoekeren de typische bosflora\, bomen verzwakken en sterven af\, de paarse heide kleurt bruin\, waterplassen lijden onder zuurstoftekort. Deze lezing van Jos Ramaekers\, diensthoofd beleid bij Natuurpunt\, gaat dieper in op de problematiek van het stikstofoverschot\, de gevolgen ervan voor de biodiversiteit en mogelijke oplossingen. Onthaal vanaf 18.30u. Omstreeks 20.45u is er een receptie voorzien. Inschrijven kan tot 23/10 via https://www.limburg.be/pid20200428?opener=0
URL:https://www.socialekalender.be/evenement/jos-ramaekers-over-stikstof-en-biodiversiteitsverlies/
LOCATION:Provinciaal Natuurcentrum\, Craenevenne 86\, Genk (Bokrijk)\, Limburg\, 3600\, België
ATTACH;FMTTYPE=image/jpeg:https://www.socialekalender.be/wp-content/uploads/2022/09/Jos-Ramaekers-1.jpg
END:VEVENT
BEGIN:VEVENT
DTSTART;TZID=Europe/Brussels:20221025T193000
DTEND;TZID=Europe/Brussels:20221025T193000
DTSTAMP:20260420T125805
CREATED:20221001T160037Z
LAST-MODIFIED:20221001T160037Z
UID:7579-1666726200-1666726200@www.socialekalender.be
SUMMARY:Ignace Schops over de klimaatcrisis
DESCRIPTION:Voor welke uitdagingen stelt de klimaatcrisis ons? Over deze vraag komt Ignace Schops in Alken praten. Ignace is directeur van het Nationaal Park Hoge Kempen en voorzitter van de Bond Beter Leefmilieu. Hij gaat ook in gesprek met Frank Vroonen\, schepen van leefmilieu. Gelijktijdig loopt er in dezelfde bibliotheek een tentoonstelling om de essentie van het klimaatprobleem te verhelderen. Ze is elk weekend van oktober (behalve 8/10) tussen 10 en 12u te bezichtigen.
URL:https://www.socialekalender.be/evenement/ignace-schops-over-de-klimaatcrisis/
LOCATION:Bibliotheek\, Papenakkerstraat 5\, Alken\, Limburg\, 3570\, België
ATTACH;FMTTYPE=image/jpeg:https://www.socialekalender.be/wp-content/uploads/2021/05/Ignace-Schops-1.jpg
END:VEVENT
END:VCALENDAR