BEGIN:VCALENDAR
VERSION:2.0
PRODID:-//Sociale Kalender - ECPv6.2.9//NONSGML v1.0//EN
CALSCALE:GREGORIAN
METHOD:PUBLISH
X-ORIGINAL-URL:https://www.socialekalender.be
X-WR-CALDESC:Evenementen voor Sociale Kalender
REFRESH-INTERVAL;VALUE=DURATION:PT1H
X-Robots-Tag:noindex
X-PUBLISHED-TTL:PT1H
BEGIN:VTIMEZONE
TZID:Europe/Brussels
BEGIN:DAYLIGHT
TZOFFSETFROM:+0100
TZOFFSETTO:+0200
TZNAME:CEST
DTSTART:20220327T010000
END:DAYLIGHT
BEGIN:STANDARD
TZOFFSETFROM:+0200
TZOFFSETTO:+0100
TZNAME:CET
DTSTART:20221030T010000
END:STANDARD
END:VTIMEZONE
BEGIN:VEVENT
DTSTART;TZID=Europe/Brussels:20221031T090000
DTEND;TZID=Europe/Brussels:20221031T163000
DTSTAMP:20260420T082651
CREATED:20220116T142020Z
LAST-MODIFIED:20220116T142020Z
UID:6567-1667206800-1667233800@www.socialekalender.be
SUMMARY:De jaren 50 en 60 (expo)
DESCRIPTION:Deze tijdelijke tentoonstelling\, die een gans jaar loopt tot 31/10\, behandelt de opbouw na de oorlogsjaren: de stijging van de welvaart\, het vooruitgangsoptimisme\, maar ook de Koude Oorlog en de wapenwedloop. Er zijn verschillende invalshoeken: maatschappij\, politiek\, religie\,… Plaatselijke anekdotes en gebruiksvoorwerpen maken de geschiedenis tastbaar. Openingsuren: maandag tot vrijdag van 9u tot 16.30u en zaterdag van 9.30u tot 12u.
URL:https://www.socialekalender.be/evenement/de-jaren-50-en-60-expo/
LOCATION:Grevenbroekmuseum\, Generaal Dempseylaan 1\, Achel\, Limburg\, 3930\, België
ATTACH;FMTTYPE=image/jpeg:https://www.socialekalender.be/wp-content/uploads/2022/01/sixties.jpg
END:VEVENT
END:VCALENDAR