BEGIN:VCALENDAR
VERSION:2.0
PRODID:-//Sociale Kalender - ECPv6.2.9//NONSGML v1.0//EN
CALSCALE:GREGORIAN
METHOD:PUBLISH
X-WR-CALNAME:Sociale Kalender
X-ORIGINAL-URL:https://www.socialekalender.be
X-WR-CALDESC:Evenementen voor Sociale Kalender
REFRESH-INTERVAL;VALUE=DURATION:PT1H
X-Robots-Tag:noindex
X-PUBLISHED-TTL:PT1H
BEGIN:VTIMEZONE
TZID:Europe/Paris
BEGIN:DAYLIGHT
TZOFFSETFROM:+0100
TZOFFSETTO:+0200
TZNAME:CEST
DTSTART:20220327T010000
END:DAYLIGHT
BEGIN:STANDARD
TZOFFSETFROM:+0200
TZOFFSETTO:+0100
TZNAME:CET
DTSTART:20221030T010000
END:STANDARD
TZID:Europe/Brussels
BEGIN:DAYLIGHT
TZOFFSETFROM:+0100
TZOFFSETTO:+0200
TZNAME:CEST
DTSTART:20220327T010000
END:DAYLIGHT
BEGIN:STANDARD
TZOFFSETFROM:+0200
TZOFFSETTO:+0100
TZNAME:CET
DTSTART:20221030T010000
END:STANDARD
END:VTIMEZONE
BEGIN:VEVENT
DTSTART;TZID=Europe/Paris:20221111T150000
DTEND;TZID=Europe/Paris:20221111T150000
DTSTAMP:20260420T082657
CREATED:20181209T155631Z
LAST-MODIFIED:20211114T101449Z
UID:2392-1668178800-1668178800@www.socialekalender.be
SUMMARY:vredeswake bij het beeld voor de onbekende oorlogsvrouw
DESCRIPTION:Elk jaar op 11 november organiseert Pax Christi Limburg een vredeswake aan het standbeeld voor de Onbekende Oorlogsvrouw in Hasselt. Het is een moment waarop deze vredesbeweging alle mensen in gedachten brengt die met oorlog en conflicten geconfronteerd werden of nog worden\, en speciaal de vrouwen en kinderen. Lizette Stiers van Pax Christi: “Hiermee willen we hulde brengen aan de moed van vrouwen die in oorlogstijd de civiele samenleving recht houden\, en die zich vaak solidair opstellen met de noodlijdenden. Dat geldt zeker nu de meeste conflicten zich niet meer tussen staten afspelen\, maar eerder van etnische of van culturele aard zijn”.\nTijdens deze vredeswake kan men luisteren naar getuigenissen van vrouwen uit oorlogsgebied\, en elke keer brengt een solidariteitskoor liederen over oorlog en hoop. Volgens de jarenlange traditie worden er brood en rozen voor het standbeeld gelegd\, die symbool staan voor de materiële en immateriële menselijke behoeften. Ze verwijzen ook naar het vrouwenstrijdlied “Bread and Roses” uit 1911\, dat in 1912 gezongen werd tijdens een actie van textielarbeidsters in Lawrence-Massachusetts. Na afloop van dit samenzijn aan het standbeeld (dat een creatie is van Jan Calmeyn) kan iedereen meewandelen tot aan het Ontmoetingscentrum Sint-Catharina aan de N. Cleynaertslaan 1. Daar wordt een drankje en een hapje aangeboden.
URL:https://www.socialekalender.be/evenement/vredeswake-bij-het-beeld-voor-de-onbekende-oorlogsvrouw-2/
LOCATION:Aan het standbeeld\, Guffenslaan (vlakbij Maastrichterpoort)\, Hasselt\, 3500
ATTACH;FMTTYPE=image/jpeg:https://www.socialekalender.be/wp-content/uploads/2018/12/onbekende-oorlogsvrouw_jan-calmeyn.jpg
END:VEVENT
BEGIN:VEVENT
DTSTART;TZID=Europe/Brussels:20221111T200000
DTEND;TZID=Europe/Brussels:20221111T200000
DTSTAMP:20260420T082657
CREATED:20221031T150913Z
LAST-MODIFIED:20221031T150913Z
UID:7655-1668196800-1668196800@www.socialekalender.be
SUMMARY:Benefietconcert voor Oekraïne
DESCRIPTION:Muziek over en tegen de oorlog van Lara Lorin (viool)\, Willy Appermont (piano)\, Taras Shushailo (bandoer) en Cantus Vocum Genk onder leiding van Jan Gabriëls.
URL:https://www.socialekalender.be/evenement/benefietconcert-voor-oekraine/
LOCATION:O.L.V. van Fatimakerk\, Weg naar AS 190\, Bret-Genk\, Limburg\, 3600\, België
ATTACH;FMTTYPE=image/jpeg:https://www.socialekalender.be/wp-content/uploads/2022/10/vlag-oekraine-met-vredesduif.jpg
END:VEVENT
BEGIN:VEVENT
DTSTART;TZID=Europe/Brussels:20221111T201500
DTEND;TZID=Europe/Brussels:20221111T201500
DTSTAMP:20260420T082657
CREATED:20221026T094747Z
LAST-MODIFIED:20221026T094747Z
UID:7621-1668197700-1668197700@www.socialekalender.be
SUMMARY:Armand (theater)
DESCRIPTION:‘Armand’ is gebaseerd op het fascinerende leven van Armand Swartenbroeks. Deze boeiende man speelde bij de Rode Duivels en was erbij toen de Belgische voetbalploeg de gouden medaille behaalde op de Olympische Spelen in 1920 te Antwerpen. Hij was tevens frontdokter tijdens de Eerste Wereldoorlog. Hij had lang een dokterspraktijk in Koekelberg. Hij gaat daar ook in de politiek en wordt eerst schepen van onderwijs en later ook burgemeester van Koekelberg. En er is ook nog zijn liefdesleven.
URL:https://www.socialekalender.be/evenement/armand-theater/
LOCATION:Zeepziederij\, Malta 11\, Bree\, Limburg\, 3960\, België
ATTACH;FMTTYPE=image/jpeg:https://www.socialekalender.be/wp-content/uploads/2022/10/Armand-in-bad.jpeg
END:VEVENT
END:VCALENDAR