BEGIN:VCALENDAR
VERSION:2.0
PRODID:-//Sociale Kalender - ECPv6.2.9//NONSGML v1.0//EN
CALSCALE:GREGORIAN
METHOD:PUBLISH
X-ORIGINAL-URL:https://www.socialekalender.be
X-WR-CALDESC:Evenementen voor Sociale Kalender
REFRESH-INTERVAL;VALUE=DURATION:PT1H
X-Robots-Tag:noindex
X-PUBLISHED-TTL:PT1H
BEGIN:VTIMEZONE
TZID:Europe/Brussels
BEGIN:DAYLIGHT
TZOFFSETFROM:+0100
TZOFFSETTO:+0200
TZNAME:CEST
DTSTART:20220327T010000
END:DAYLIGHT
BEGIN:STANDARD
TZOFFSETFROM:+0200
TZOFFSETTO:+0100
TZNAME:CET
DTSTART:20221030T010000
END:STANDARD
END:VTIMEZONE
BEGIN:VEVENT
DTSTART;TZID=Europe/Brussels:20221121T094500
DTEND;TZID=Europe/Brussels:20221121T120000
DTSTAMP:20260420T082649
CREATED:20221031T143204Z
LAST-MODIFIED:20221117T101352Z
UID:7632-1669023900-1669032000@www.socialekalender.be
SUMMARY:Boekvoorstelling door Roger Pauly (WEGENS ZIEKTE VERVANGEN DOOR MARCEL VERHELST)
DESCRIPTION:Roger Pauly\, voormalig voorzitter van de Gezinsbond\, stelt zijn boek voor met als titel: “De voortgang van het leven. Een nieuwe tijd ontwaakt.” Hij verzet zich tegen een materialistisch georiënteerde en innerlijk arme wereld. Bezinning\, levensverdieping en meditatie kunnen een nieuwe voedingsbodem voor oriëntatie bieden.
URL:https://www.socialekalender.be/evenement/boekvoorstelling-door-roger-pauly/
LOCATION:Huis Ulburghs\, Sint-Annastraat 7\, Zolder\, 3550\, België
ATTACH;FMTTYPE=image/jpeg:https://www.socialekalender.be/wp-content/uploads/2022/10/Roger-Pauly.jpg
END:VEVENT
BEGIN:VEVENT
DTSTART;TZID=Europe/Brussels:20221121T200000
DTEND;TZID=Europe/Brussels:20221121T200000
DTSTAMP:20260420T082649
CREATED:20221002T092013Z
LAST-MODIFIED:20221002T092013Z
UID:7587-1669060800-1669060800@www.socialekalender.be
SUMMARY:De eerste steen of een tweede kans?
DESCRIPTION:Hoeveel gemakkelijker is het niet om een ander te veroordelen\, om elkaar met stenen te bekogelen\, in plaats van te vergeven en nieuwe kansen te bieden? In onze samenleving merken we een toenemende verruwing\, zeker op de (a)sociale media. Hoe gaan we daar als christenen mee om? Hoe bieden we weerwerk aan de verharding? Kunnen we de samenleving een alternatieve weg aanreiken vanuit broederlijkheid en vriendschap\, vanuit barmhartigheid en verzoening? De christelijke traditie is en blijft een bron van humaniteit. Het christelijke geloof zet aan tot inzet voor een betere wereld. Contemplatie en actie\, verdieping en engagement horen wezenlijk samen. Na de inleiding van filosoof Guido Vanheeswijck belichten ere-rechter Tony Heeren\, gevangenisaalmoezenier Siska Deknudt en moraaltheologe Ilse Cornu tijdens een panelgesprek elk vanuit hun ervaringen en expertise het belang van vergeving voor het vredevol samenleven in het gezin\, in de bredere maatschappij\, in de ruime wereld en in de Kerk. Moderator: Emmanuel Van Lierde.
URL:https://www.socialekalender.be/evenement/de-eerste-steen-of-een-tweede-kans/
LOCATION:Cultuurcentrum Hasselt\, Kunstlaan 5\, Hasselt\, 3500\, België
ATTACH;FMTTYPE=image/jpeg:https://www.socialekalender.be/wp-content/uploads/2022/10/vergeving.jpg
END:VEVENT
END:VCALENDAR