BEGIN:VCALENDAR
VERSION:2.0
PRODID:-//Sociale Kalender - ECPv6.2.9//NONSGML v1.0//EN
CALSCALE:GREGORIAN
METHOD:PUBLISH
X-ORIGINAL-URL:https://www.socialekalender.be
X-WR-CALDESC:Evenementen voor Sociale Kalender
REFRESH-INTERVAL;VALUE=DURATION:PT1H
X-Robots-Tag:noindex
X-PUBLISHED-TTL:PT1H
BEGIN:VTIMEZONE
TZID:Europe/Brussels
BEGIN:DAYLIGHT
TZOFFSETFROM:+0100
TZOFFSETTO:+0200
TZNAME:CEST
DTSTART:20220327T010000
END:DAYLIGHT
BEGIN:STANDARD
TZOFFSETFROM:+0200
TZOFFSETTO:+0100
TZNAME:CET
DTSTART:20221030T010000
END:STANDARD
END:VTIMEZONE
BEGIN:VEVENT
DTSTART;TZID=Europe/Brussels:20221129T193000
DTEND;TZID=Europe/Brussels:20221129T220000
DTSTAMP:20260420T082652
CREATED:20221031T143607Z
LAST-MODIFIED:20221031T143607Z
UID:7636-1669750200-1669759200@www.socialekalender.be
SUMMARY:Smokkelen in tijden van oorlog en vrede
DESCRIPTION:Frans Medaer komt een tweede keer naar As afgezakt voor een uiteenzetting over lokale geschiedenis. Deze keer komt hij de dynamiek uitleggen tussen douaniers en smokkelaars aan de Maas\, van de eerste wereldoorlog tot de dag van vandaag. Frans zal zijn verhaal brengen in zijn moedertaal\, het Lankers.
URL:https://www.socialekalender.be/evenement/smokkelen-in-tijden-van-oorlog-en-vrede/
LOCATION:Buurthuis Statiewijk\, Nielerlaan 106 (vlakbij Station)\, As\, 3668
ATTACH;FMTTYPE=image/jpeg:https://www.socialekalender.be/wp-content/uploads/2022/10/Frans-Medaer-0.jpg
END:VEVENT
END:VCALENDAR