BEGIN:VCALENDAR
VERSION:2.0
PRODID:-//Sociale Kalender - ECPv6.2.9//NONSGML v1.0//EN
CALSCALE:GREGORIAN
METHOD:PUBLISH
X-ORIGINAL-URL:https://www.socialekalender.be
X-WR-CALDESC:Evenementen voor Sociale Kalender
REFRESH-INTERVAL;VALUE=DURATION:PT1H
X-Robots-Tag:noindex
X-PUBLISHED-TTL:PT1H
BEGIN:VTIMEZONE
TZID:Europe/Brussels
BEGIN:DAYLIGHT
TZOFFSETFROM:+0100
TZOFFSETTO:+0200
TZNAME:CEST
DTSTART:20220327T010000
END:DAYLIGHT
BEGIN:STANDARD
TZOFFSETFROM:+0200
TZOFFSETTO:+0100
TZNAME:CET
DTSTART:20221030T010000
END:STANDARD
END:VTIMEZONE
BEGIN:VEVENT
DTSTART;TZID=Europe/Brussels:20221217T130000
DTEND;TZID=Europe/Brussels:20221217T130000
DTSTAMP:20260420T082654
CREATED:20221128T133309Z
LAST-MODIFIED:20221128T133309Z
UID:7772-1671282000-1671282000@www.socialekalender.be
SUMMARY:Tijd tot 2024: samen tegen polarisatie
DESCRIPTION:De trend lijkt gezet: extreemrechts blijft stijgen in de peilingen en in het publieke debat verscherpen de tegenstellingen. Bruggenbouwers kijken het vaak met lede ogen aan\, verlamd door een gevoel van machteloosheid. Tijd om aan de slag te gaan! Op zaterdag 17 december gaan we in C-Mine Genk van start met een panelgesprek met Jihad Van Puymbroeck ( communicatiestrateeg)\, Meron Knikman (voorzitter van de Vrouwenraad) en Bleri Lleshi (auteur en docent). Na het panelgesprek vinden er drie werkgroepen plaats die je tools aanreiken om in je omgeving toxische polarisatie en extreemrechts tegen te gaan. Een initiatief van Motief vzw\, samen met 15 andere organisaties waaropnder de Universiteit voor het Maatschappelijk Belang.
URL:https://www.socialekalender.be/evenement/tijd-tot-2024-samen-tegen-polarisatie/
LOCATION:C-Mine\, C-Mine 10\, Genk\, Limburg\, 3600\, België
ATTACH;FMTTYPE=image/jpeg:https://www.socialekalender.be/wp-content/uploads/2022/11/polarisatie2.jpg
END:VEVENT
END:VCALENDAR