BEGIN:VCALENDAR
VERSION:2.0
PRODID:-//Sociale Kalender - ECPv6.2.9//NONSGML v1.0//EN
CALSCALE:GREGORIAN
METHOD:PUBLISH
X-WR-CALNAME:Sociale Kalender
X-ORIGINAL-URL:https://www.socialekalender.be
X-WR-CALDESC:Evenementen voor Sociale Kalender
REFRESH-INTERVAL;VALUE=DURATION:PT1H
X-Robots-Tag:noindex
X-PUBLISHED-TTL:PT1H
BEGIN:VTIMEZONE
TZID:Europe/Brussels
BEGIN:DAYLIGHT
TZOFFSETFROM:+0100
TZOFFSETTO:+0200
TZNAME:CEST
DTSTART:20230326T010000
END:DAYLIGHT
BEGIN:STANDARD
TZOFFSETFROM:+0200
TZOFFSETTO:+0100
TZNAME:CET
DTSTART:20231029T010000
END:STANDARD
END:VTIMEZONE
BEGIN:VEVENT
DTSTART;TZID=Europe/Brussels:20230101T130000
DTEND;TZID=Europe/Brussels:20230101T200000
DTSTAMP:20260420T082704
CREATED:20221002T093149Z
LAST-MODIFIED:20221002T093149Z
UID:7595-1672578000-1672603200@www.socialekalender.be
SUMMARY:Tentoonstelling Gaston Wuestenbergs (afsluiting)
DESCRIPTION:Gaston Wuestenbergs (° Alken\, 1954) is lid van de groep ARTISIT\, een creatiecentrum voor actuele kunst in Genk. ARTISIT richt zich op de “psychotische zienswijze” als bron van inspiratie en wil de stereotype beeldvorming omtrent de kunst van psychotische personen doorbreken. Voor Gaston Wuestenbergs is kunst “denken op papier”. Hij wordt geïnspireerd door de natuurprocessen. Deze keer loopt zijn tentoonstelling onder de noemer “Hemel en aarde zijn vervaardigd zonder wapens”. Met deze tentoonstelling van 11.000 aquarellen en 26.000 bladzijden beschrijvende teksten wil hij ons tot bezinning brengen over de kwetsbaarheid van onze mooie wereld. De tentoonstelling loopt van 15 december tot en met 1 januari\, elke dag van 13 tot 20 uur. De kunstenaar is doorlopend aanwezig.
URL:https://www.socialekalender.be/evenement/tentoonstelling-gaston-wuestenbergs-afsluiting-2/
LOCATION:Onder de Toren\, Thonissenlaan 15\, Hasselt\, Limburg\, 3500\, België
ATTACH;FMTTYPE=image/jpeg:https://www.socialekalender.be/wp-content/uploads/2022/10/gaston-wuestenbergs2-1.jpeg
END:VEVENT
END:VCALENDAR