BEGIN:VCALENDAR
VERSION:2.0
PRODID:-//Sociale Kalender - ECPv6.2.9//NONSGML v1.0//EN
CALSCALE:GREGORIAN
METHOD:PUBLISH
X-ORIGINAL-URL:https://www.socialekalender.be
X-WR-CALDESC:Evenementen voor Sociale Kalender
REFRESH-INTERVAL;VALUE=DURATION:PT1H
X-Robots-Tag:noindex
X-PUBLISHED-TTL:PT1H
BEGIN:VTIMEZONE
TZID:Europe/Brussels
BEGIN:DAYLIGHT
TZOFFSETFROM:+0100
TZOFFSETTO:+0200
TZNAME:CEST
DTSTART:20230326T010000
END:DAYLIGHT
BEGIN:STANDARD
TZOFFSETFROM:+0200
TZOFFSETTO:+0100
TZNAME:CET
DTSTART:20231029T010000
END:STANDARD
END:VTIMEZONE
BEGIN:VEVENT
DTSTART;TZID=Europe/Brussels:20230115T103000
DTEND;TZID=Europe/Brussels:20230115T103000
DTSTAMP:20260420T082651
CREATED:20230104T135110Z
LAST-MODIFIED:20230105T104912Z
UID:7834-1673778600-1673778600@www.socialekalender.be
SUMMARY:Sint-Tieëniskermis in As
DESCRIPTION:Traditiegetrouw begint de dag om 10.30 uur met een misviering in het dialect. Daarna gaat de Sint-Tieëniskermis van start. Allerlei offerwaren worden per opbod verkocht onder de hamer van Dirk Leekens. Aansluitend is er gelegenheid om gezellig samen te zijn bij een drupje of soepje. Er is een ruim aanbod van winterbieren\, en ook het Asserse dorpsbier De Baekelaer met zijn typische aroma van zelfgeplukte jeneverbessen is verkrijgbaar. De covergroep Vaneiges zal zorgen voor een streepje muziek met de nodige ambiance. De Sint-Aldegondiskring geeft na bijna 40 jaar de fakkel van de organisatie over aan Schutterij Sint-Sebastiaan. Iedereen is van harte welkom op deze unieke erfgoedactiviteit!
URL:https://www.socialekalender.be/evenement/sint-tieeniskermis-in-as/
LOCATION:Sint-Aldegondiskerk\, Aldegondisplein (tegenover Dorpsstraat 47)\, As\, 3665\, België
ATTACH;FMTTYPE=image/jpeg:https://www.socialekalender.be/wp-content/uploads/2022/06/Sint-Aldegondiskerk.jpg
END:VEVENT
END:VCALENDAR