BEGIN:VCALENDAR
VERSION:2.0
PRODID:-//Sociale Kalender - ECPv6.2.9//NONSGML v1.0//EN
CALSCALE:GREGORIAN
METHOD:PUBLISH
X-ORIGINAL-URL:https://www.socialekalender.be
X-WR-CALDESC:Evenementen voor Sociale Kalender
REFRESH-INTERVAL;VALUE=DURATION:PT1H
X-Robots-Tag:noindex
X-PUBLISHED-TTL:PT1H
BEGIN:VTIMEZONE
TZID:Europe/Brussels
BEGIN:DAYLIGHT
TZOFFSETFROM:+0100
TZOFFSETTO:+0200
TZNAME:CEST
DTSTART:20230326T010000
END:DAYLIGHT
BEGIN:STANDARD
TZOFFSETFROM:+0200
TZOFFSETTO:+0100
TZNAME:CET
DTSTART:20231029T010000
END:STANDARD
END:VTIMEZONE
BEGIN:VEVENT
DTSTART;TZID=Europe/Brussels:20230117T193000
DTEND;TZID=Europe/Brussels:20230117T193000
DTSTAMP:20260420T082656
CREATED:20221229T143654Z
LAST-MODIFIED:20221229T143654Z
UID:7822-1673983800-1673983800@www.socialekalender.be
SUMMARY:Diversiteitstafel over UNIA
DESCRIPTION:Medewerkster Katarina Jiresova zal een voorstelling geven van de werking van UNIA\, het Interfederaal Centrum voor Gelijke Kansen. UNIA is een onafhankelijke openbare instelling die discriminatie bestrijdt en gelijke kansen bevordert. Het werkt op basis van 17 discriminatiecriteria: van huidskleur tot seksuele geaardheid\, van levensbeschouwing tot handicap. Momenteel staat deze organisatie binnen de Vlaamse regering onder sterke druk: Bart Somers wil een eigen Vlaams Mensenrechteninstituut opstarten. Na de uiteenzetting volgt er een dialoog met de aanwezigen.
URL:https://www.socialekalender.be/evenement/diversiteitstafel-over-unia/
LOCATION:Regenbooghuis\, Meldertstraat 38\, Hasselt\, 3500\, België
ATTACH;FMTTYPE=image/png:https://www.socialekalender.be/wp-content/uploads/2022/12/gelijke-rechten.png
END:VEVENT
END:VCALENDAR