BEGIN:VCALENDAR
VERSION:2.0
PRODID:-//Sociale Kalender - ECPv6.2.9//NONSGML v1.0//EN
CALSCALE:GREGORIAN
METHOD:PUBLISH
X-ORIGINAL-URL:https://www.socialekalender.be
X-WR-CALDESC:Evenementen voor Sociale Kalender
REFRESH-INTERVAL;VALUE=DURATION:PT1H
X-Robots-Tag:noindex
X-PUBLISHED-TTL:PT1H
BEGIN:VTIMEZONE
TZID:Europe/Brussels
BEGIN:DAYLIGHT
TZOFFSETFROM:+0100
TZOFFSETTO:+0200
TZNAME:CEST
DTSTART:20230326T010000
END:DAYLIGHT
BEGIN:STANDARD
TZOFFSETFROM:+0200
TZOFFSETTO:+0100
TZNAME:CET
DTSTART:20231029T010000
END:STANDARD
END:VTIMEZONE
BEGIN:VEVENT
DTSTART;TZID=Europe/Brussels:20230121T084500
DTEND;TZID=Europe/Brussels:20230121T170000
DTSTAMP:20260420T082654
CREATED:20221208T163436Z
LAST-MODIFIED:20221208T163436Z
UID:7795-1674290700-1674320400@www.socialekalender.be
SUMMARY:LIKONA-contactdag
DESCRIPTION:Deze 32ste editie van de jaarlijkse contactdag van de Limburgse Koepel voor Natuurstudie (LIKONA) vindt weer plaats in het universiteitsgebouw van Diepenbeek. In de voormiddag staan er samenkomsten opgedeeld per werkgroep op het programma. Om 12 uur is er tijd voor een lunch. Vanaf 13.45u kunnen de aanwezigen in plenum luisteren naar uiteenzettingen over o.a. holle wegen\, kiekendieven in Limburg\, de invloed van de klimaatopwarming op amfibieën en reptielen enz. Om 16.45u begint de receptie met netwerkmarkt. Meer info en inschrijving via http://www.provinciaalnatuurcentrum.be/mina Bij inschrijving kan men een warme vegetarische maaltijd (€ 15) of een vegetarisch broodje (€ 7) reserveren\, ter plaatse te betalen.
URL:https://www.socialekalender.be/evenement/likona-contactdag/
LOCATION:Universitaire Campus (gebouw D)\, Diepenbeek\, 3590
ATTACH;FMTTYPE=image/jpeg:https://www.socialekalender.be/wp-content/uploads/2022/12/LIKONA-contactdag.jpg
END:VEVENT
END:VCALENDAR