BEGIN:VCALENDAR
VERSION:2.0
PRODID:-//Sociale Kalender - ECPv6.2.9//NONSGML v1.0//EN
CALSCALE:GREGORIAN
METHOD:PUBLISH
X-ORIGINAL-URL:https://www.socialekalender.be
X-WR-CALDESC:Evenementen voor Sociale Kalender
REFRESH-INTERVAL;VALUE=DURATION:PT1H
X-Robots-Tag:noindex
X-PUBLISHED-TTL:PT1H
BEGIN:VTIMEZONE
TZID:Europe/Brussels
BEGIN:DAYLIGHT
TZOFFSETFROM:+0100
TZOFFSETTO:+0200
TZNAME:CEST
DTSTART:20230326T010000
END:DAYLIGHT
BEGIN:STANDARD
TZOFFSETFROM:+0200
TZOFFSETTO:+0100
TZNAME:CET
DTSTART:20231029T010000
END:STANDARD
END:VTIMEZONE
BEGIN:VEVENT
DTSTART;TZID=Europe/Brussels:20230129T140000
DTEND;TZID=Europe/Brussels:20230129T170000
DTSTAMP:20260420T082655
CREATED:20230110T095324Z
LAST-MODIFIED:20230110T095324Z
UID:7865-1675000800-1675011600@www.socialekalender.be
SUMMARY:Pannenkoekendag t.v.v. De Brug
DESCRIPTION:De Brug Hasselt vzw is een vereniging waar armen het woord nemen. Ze organiseerde tot corona elke winter een pannenkoekendag\, en nu ook weer. Op deze manier zamelt de vereniging de nodige werkingsmiddelen in\, maar de dag dient ook als contactmoment voor alle mensen die zich betrokken voelen. Voor twee pannenkoeken en een drankje betaal je 5 euro. De ingang van de Sint-Ludovicuszaal van de minderbroeders ligt aan de achterkant.
URL:https://www.socialekalender.be/evenement/pannenkoekendag-t-v-v-de-brug/
LOCATION:Sint-Loduvicuszaal\, Minderbroedersstraat 17\, Hasselt\, Limburg\, 3500\, België
ATTACH;FMTTYPE=image/jpeg:https://www.socialekalender.be/wp-content/uploads/2023/01/pannenkoeken.jpg
END:VEVENT
END:VCALENDAR