BEGIN:VCALENDAR
VERSION:2.0
PRODID:-//Sociale Kalender - ECPv6.2.9//NONSGML v1.0//EN
CALSCALE:GREGORIAN
METHOD:PUBLISH
X-WR-CALNAME:Sociale Kalender
X-ORIGINAL-URL:https://www.socialekalender.be
X-WR-CALDESC:Evenementen voor Sociale Kalender
REFRESH-INTERVAL;VALUE=DURATION:PT1H
X-Robots-Tag:noindex
X-PUBLISHED-TTL:PT1H
BEGIN:VTIMEZONE
TZID:Europe/Brussels
BEGIN:DAYLIGHT
TZOFFSETFROM:+0100
TZOFFSETTO:+0200
TZNAME:CEST
DTSTART:20230326T010000
END:DAYLIGHT
BEGIN:STANDARD
TZOFFSETFROM:+0200
TZOFFSETTO:+0100
TZNAME:CET
DTSTART:20231029T010000
END:STANDARD
END:VTIMEZONE
BEGIN:VEVENT
DTSTART;TZID=Europe/Brussels:20230207T190000
DTEND;TZID=Europe/Brussels:20230207T213000
DTSTAMP:20260420T082703
CREATED:20221104T145659Z
LAST-MODIFIED:20230110T094515Z
UID:7688-1675796400-1675805400@www.socialekalender.be
SUMMARY:Sammy Mahdi over zijn politiek gedachtegoed
DESCRIPTION:Sammy Mahdi (° Elsene\, 1988) is de zoon van een Irakese vader en een Belgische moeder. Zijn vader vluchtte eind jaren 1970 als politiek vluchteling naar België. Sammy Mahdi studeerde politieke wetenschappen aan de VUB en behaalde er vervolgens een master internationaal en Europees recht. In maart 2017 werd hij verkozen tot voorzitter van Jong CD&V. Bijna twee jaar lang was hij staatssecretaris voor Asiel en Migratie\, tot hij op 25 juni 2022 partijvoorzitter werd. Op deze gespreksavond van de UMB gaat hij er dieper op in wat hem inspireerde om in de politiek te stappen en hoe zijn politiek gedachtegoed vorm kreeg. Achteraf is er tijd voor dialoog met de aanwezigen in het auditorium. Studenten\, werklozen en gepensioneerden genieten van een verlaagd tarief.
URL:https://www.socialekalender.be/evenement/sammy-mahdi-over-zijn-politiek-gedachtegoed/
LOCATION:Universiteit Hasselt\, Campus Oude Gevangenis\, Martelarenlaan 42\, Hasselt\, 3500\, België
ATTACH;FMTTYPE=image/jpeg:https://www.socialekalender.be/wp-content/uploads/2022/11/Sammy-Mahdi-2.jpg
END:VEVENT
END:VCALENDAR